BEGIN:VCALENDAR
VERSION:2.0
PRODID:-//Opera dhe Baleti Nacional - ECPv4.0.7//NONSGML v1.0//EN
CALSCALE:GREGORIAN
METHOD:PUBLISH
X-WR-CALNAME:Opera dhe Baleti Nacional
X-ORIGINAL-URL:https://operabalet.mk/al
X-WR-CALDESC:Events for Opera dhe Baleti Nacional
BEGIN:VEVENT
DTSTART;TZID="UTC+0":20211030T200000
DTEND;TZID="UTC+0":20211030T223000
DTSTAMP:20260423T192445
CREATED:20211021T140325
LAST-MODIFIED:20211021T140409
UID:438-1635624000-1635633000@operabalet.mk
SUMMARY:PREMIERË - Adolf Adam " ZHIZEL" (30.10.2021)
DESCRIPTION:PREMIERË\nAdolf Adam\nZHIZEL\n 30.10.2021\n 3.11.2021\nMe fillim në ora 20.00\nDirigjent: Ivan Eminoviq\nKoreografë: Zhan Korali\, Zhil Pero\, Marius Petipa\, Leonid Lavrovski\nAdaptimi: Irena Pasariq (Kroaci)\nSkenografë: Aleksandar Noshpall dhe Mihajllo Stojanovski\nKostumograf: Aleksandar Noshpall\nAsistent kostumograf: Angela Bogeska\nMjeshtër koncerti: Verica Lambevska\nNdriçimi: Millço Aleksandrov\nRepetitorë: Goran Bozhinov\, Aleksandra Mijallkova\, Lora Tarçugovska\, Biljana Pasharikovska\nFotograf dhe dizajni: Emil Petrov\nMarrin pjesë:\nZhizel: Marija Kiçevska Shokarovska\nAlberti: Vasil Çiçiashvili (Gjeorgji)\nHilarioni: Igor Velanoski\nMirta: Ivana Kocevska\nPa de de: Hristina Naqevska\, Endru Kuk (Angli)\nNëna: Marija Josifovska Ristovska\nBatolda: Marija Bërdaroska\nKonti: Aleksandar Petkovski\nShoqëruesi i Kontit: Dragan Koçoski\nMe pjesëmarrje edhe të ansamblit dhe orkestrës së Operës dhe Baletit Kombëtar\nZHIZEL\n(Sinopsisi)\nBaleti Zhizel është një balat romantik - fantastik në dy akte. Nga paraqitja e parë në Paris\, 1841\, e deri më sot\, ky balet është ndër të vetmet që ka traditë të pandërprerë të shfaqjes.\nAkti i parë (real) e tregon takimin e vajzës së fshatit\, Zhizel me kontin Albert\, i cili kishte dalë për gjueti. Ajo pafundësisht dashurohet në të\, por nuk e di se ai është një njeri më i veçantë. Pylltari Hilarion\, i cili gjithashtu e dashuron Zhizelin\, mëson për ardhjen e kontit dhe kur suita e tij vjen në qytet\, midis të cilëve ishte edhe e fejuara e tij\, Batilda\, ai\, para të gjithëve e zbulon Albertin. Zhizeli\, duke mos mundur ta pranojë gënjeshtrën për atë dashuri\, vdes nga dhimbja e madhe.\nAkti i dytë (fantastik) e tregon lojën e zanave\, të cilat në fakt janë vajza që kishin vdekur para dasmave të tyre. Ato\, gjatë natës dalin nga varret e tyre dhe vallëzojnë. Secili që e sheh lojën e tyre vdes aty për aty. Atë natë në pyll vjen Hilarioni e pastaj edhe Alberti dhe ia tregojnë dashurinë e tyre Zhzelit së vdekur. Hilarioni kapet nga zanat dhe vritet\, kurse Albertin e shpëton dashuri e Zhizelit\, e cila me të vallëzon deri në orët e hershme të mëngjesit. Kur lind dielli\, zanat zhduken.
URL:https://operabalet.mk/al/event/438/
LOCATION:Array
CATEGORIES:Balet
ATTACH;FMTTYPE=image/png:https://operabalet.mk/al/wp-content/uploads/sites/3/2021/10/Zizel-Web-sajt_eng_alb.png
END:VEVENT
END:VCALENDAR