BEGIN:VCALENDAR
VERSION:2.0
PRODID:-//Opera dhe Baleti Nacional - ECPv4.0.7//NONSGML v1.0//EN
CALSCALE:GREGORIAN
METHOD:PUBLISH
X-WR-CALNAME:Opera dhe Baleti Nacional
X-ORIGINAL-URL:https://operabalet.mk/al
X-WR-CALDESC:Events for Opera dhe Baleti Nacional
BEGIN:VEVENT
DTSTART;TZID="UTC+0":20170531T200000
DTEND;TZID="UTC+0":20170531T235500
DTSTAMP:20260424T163740
CREATED:20170425T143047
LAST-MODIFIED:20170425T143047
UID:228-1496260800-1496274900@operabalet.mk
SUMMARY:AIDA – Gjuzepe Verdi (31.05.2017)
DESCRIPTION:\n\nOrkestri\, kori dhe ansambli i baletit pranë Operes dhe Baletit ne Maqedoni
URL:https://operabalet.mk/al/event/aida-gjuzepe-verdi-31-05-2017/
LOCATION:Bulevar Goce Dellçev 4\, Shkup\, 1000\, Macedonia
CATEGORIES:Оperë
ATTACH;FMTTYPE=image/jpeg:https://operabalet.mk/al/wp-content/uploads/sites/3/2017/04/aida-majski.jpg
END:VEVENT
END:VCALENDAR