BEGIN:VCALENDAR
VERSION:2.0
PRODID:-//Opera dhe Baleti Nacional - ECPv4.0.7//NONSGML v1.0//EN
CALSCALE:GREGORIAN
METHOD:PUBLISH
X-WR-CALNAME:Opera dhe Baleti Nacional
X-ORIGINAL-URL:https://operabalet.mk/al
X-WR-CALDESC:Events for Opera dhe Baleti Nacional
BEGIN:VEVENT
DTSTART;TZID="UTC+0":20250527T193000
DTEND;TZID="UTC+0":20250527T213000
DTSTAMP:20260423T115747
CREATED:20250527T142236
LAST-MODIFIED:20250527T142236
UID:933-1748374200-1748381400@operabalet.mk
SUMMARY:Ansambli për valle dhe këngë popullore të Kroacisë “LADO”
DESCRIPTION:\nAnsambli për valle dhe këngë popullore të Kroacisë “LADO”\nKoncert i valleve popullore\nI ftuar në koncert – Ansambli TANEC\n3 qershor 2025 / Opera dhe Baleti Nacional\, Shkup\n\nKoncertet e valleve të Ansamblit LADO janë vende ku artistët e LADO-s takohen me publikun\, ku realizohet një kontakt i ndërsjellë përmes interpretimeve unike të valleve dhe këngëve më të bukura popullore. Koncerti përfaqësues i valleve i LADO-s është kulmi i tij interpretues\, dhe këtë vit publiku do të ketë mundësi ta shohë në të gjithë Kroacinë si dhe në turne ndërkombëtare. Programi i koncertit të valleve\, edhe këtë vit\, është konceptuar dhe dizajnuar artistikisht nga drejtoresha artistike e LADO-s\, Zrinka Posavec.\nLADO vazhdon të mahnitë publikun me përkryerjen\, temperamentin dhe interpretimet autentike\, duke shfaqur pasurinë e traditës kroate. Plot energji dhe frymëzuar nga tradita\, paraqitjet e Ansamblit LADO janë krijime koreografike dhe interpretime skenike që qëndrojnë shumë pranë rrënjëve të tyre\, dhe shprehja e tyre artistike nuk e lë askënd indiferent.\n
URL:https://operabalet.mk/al/event/ansambli-per-valle-dhe-kenge-popullore-te-kroacise-lado/
LOCATION:Array
CATEGORIES:Koncert
ATTACH;FMTTYPE=image/png:https://operabalet.mk/al/wp-content/uploads/sites/3/2025/05/lado_web.png
END:VEVENT
END:VCALENDAR