BEGIN:VCALENDAR
VERSION:2.0
PRODID:-//Opera dhe Baleti Nacional - ECPv4.0.7//NONSGML v1.0//EN
CALSCALE:GREGORIAN
METHOD:PUBLISH
X-WR-CALNAME:Opera dhe Baleti Nacional
X-ORIGINAL-URL:https://operabalet.mk/al
X-WR-CALDESC:Events for Opera dhe Baleti Nacional
BEGIN:VEVENT
DTSTART;TZID="UTC+0":20260408T200000
DTEND;TZID="UTC+0":20260408T223000
DTSTAMP:20260423T082106
CREATED:20260327T140431
LAST-MODIFIED:20260327T140743
UID:1035-1775678400-1775687400@operabalet.mk
SUMMARY:ARRËTHYESJA – P. I. ÇAJKOVSKI (8.4.2026)
DESCRIPTION:\nPetar Iliç Çajkovski\nARRËTHYESJA\n8.4.2026\, ora 20:00\nBaleti në dy akte\n“Një fantazi baleti për ëndrrat\, kujtimet dhe të vërtetat që i kuptojmë vetëm kur rritemi.”\nDirigjent: Eduard Ambarcumjan (Armeni)\nKoreograf: Sasha Evtimova\nLibreti: Sasha Evtimova\nSkenograf: Marija Veteroska\nKostumograf: Marija Pupuçevska\nKoncert-mjeshtër: Kliment Todorovski\nAsistent koreografi: Dmitro Çebotar\nAsistente koreografe e studentëve të degës së baletit: Maja Mitrovska Bogojevska\nMARRIN PJESË:\nHristina Naqevska Mitrashinoviq (Zana e Sheqerit)\nFrancisko Himenez Ruiz (Spanjë)\nBalazh Loçei (Mbreti i borës)\nNatasha Trendafilova Giçev (Mbretëresha e borës)\nIgor Velanoski (Droselmaer)\nBoban Kovaçevski (Mbreti i miut)\nVeselin Trajkoski (Lukas - Arrëthyes)\nGala Koçevska (Klara)\nMarko Mijatoviq (Friç)\nMarrin pjesë solistë të shquar\, solistë dhe ansambli i baletit\, orkestra dhe kori i Operës dhe Baletit Nacional dhe he nxënësit e QShShMB-së “Ilia Nikollovski Luj“\n 
URL:https://operabalet.mk/al/event/arrethyesja-p-i-cajkovski-8-4-2026/
LOCATION:Array
CATEGORIES:Balet
ATTACH;FMTTYPE=image/jpeg:https://operabalet.mk/al/wp-content/uploads/sites/3/2026/03/WEB-orevokrsacka-banner.jpg
END:VEVENT
END:VCALENDAR