BEGIN:VCALENDAR
VERSION:2.0
PRODID:-//Opera dhe Baleti Nacional - ECPv4.0.7//NONSGML v1.0//EN
CALSCALE:GREGORIAN
METHOD:PUBLISH
X-WR-CALNAME:Opera dhe Baleti Nacional
X-ORIGINAL-URL:https://operabalet.mk/al
X-WR-CALDESC:Events for Opera dhe Baleti Nacional
BEGIN:VEVENT
DTSTART;TZID="UTC+0":20230203T200000
DTEND;TZID="UTC+0":20230203T220000
DTSTAMP:20260423T193011
CREATED:20230130T103451
LAST-MODIFIED:20230130T103451
UID:586-1675454400-1675461600@operabalet.mk
SUMMARY:ARRËTHYESJA  PETAR ILIÇ ÇAJKOVSKI (3.2.2023)
DESCRIPTION:\nPetar Iliç Çajkovskoi\n ARRËTHYESJA\n 3.2.2023 – 20:00\nKoreograf: Vasilij Ivanoviq Vainonen (Rusi)\nSkenograf: Anatolij Nezhnji (Rusi)\nKostumograf: Ljupka Ristovska\nRepetitorë: Goran Bozhinov\, Aleksandra Mijalkova\, Vasil Çiçiashvili\, Natasha Josifovska\, Biljana Pasharikovska\, Dafina Daniloska-Koçevska\nMarrin pjesë:\nKlara: Ivana Kocevska\nPrinci: Francisko Himenez Ruiz (Spanjë)\nMARRIN PJESË EDHE SOLISTË\, ANSAMBLI I BALETIT I OPERËS DHE BALETIT KOMBËTAR DHE FËMIJËT NGA SHKOLLA E MUZIKËS "ILIJA NIKOLOVSKI-LUJ"\nShfaqja zgjat 1 orë e 32 minuta\n\nSINOPSIS\n\nAKTI I\nNgjarja zhvillohet në një qytezë të vjetër gjermane\, në fillim të shekullit të kaluar. Në prag të Krishtlindjeve. Rruga është e gjallëruar. Midis të ftuarve rreth bredhit\, është edhe mjeshtri i vjetër i lodrave\, miku i fëmijëve\, Drosmaeri. Dhoma e mysafirëve e familjes Shtalbaum është e zbukuruar. Mblidhen mysafirët. Vjen edhe Drosermaeri\, i cili sjell dhurata. Gjithçka është gati për festën. Vijnë edhe fëmijët. Fillon loja symbyllur. U bashkohet edhe Drosermaeri. Ia mbulojnë sytë dhe të parën e kap Klarën\, bijën e Shtalbaumit. Pas lojës fillon vallëzimi. Paraqitet Drosermaeri me kostum magjistari. I tregon magjitë e tij dhe jep shfaqje me kukulla. Mbreti i minjve dëshiron ta rrëmbejë princeshën\, por Arrëthyesi i guximshëm e vret mbretin e minjve. Drsomaeri paraqet lojëra tjera.  Ai ua tregon fëmijëve kukullën Mavar\, e cila kurdiset. Klarës më së shumti i pëlqen Arrëthyesi. Franci e merr Arrëthyesin për Klarën\, por në duart e tij mbetet vetëm koka e kukullës. Drosmaeri në shpejtësi e rregullon kukullën. Klara e miklon kukullën e shqetësuar.  Balloja përfundon me vallëzim. Është vonë\, mysafirët shkojnë. Klara përshëndet me Arrëthyesin\, ndalen dritat. Dadoja e çon Klarën në gjumë. Ajo sheh në ëndërr se si minjtë\, bashkë me mbretin e tyre\, e pushtojnë dhomën e mysafirëve. Arrëthyesi është në krye të ushtarëve prej plumbi dhe sulmojnë. Klara shkon pas tij\, e tejkalon frikën\, me vendosmëri e gjuan këpucën në drejtim të mbretit të minjve dhe kështu e shpëton Arrëthyesin. Mbreti i minjve është mundur dhe ai bashkë me ushtarët e tij zhduket. Drosmajeri e shndërron Klarën në një vajzë të bukur\, kurse Arrëthyesin në një djalë shumë të mirë. Fillon udhëtimi në tokën e përrallave. Bie borë…\n\nAKTI II\nKlara dhe Arrëthyesi janë në ujdhesën magjike. Fillon festa. Klara dhe Arrëthyesi janë të lumtur. Vallëzojnë me të gjithë. Afrohet mëngjesi. Ëndrra magjike përfundon\, Klara zgjohet…\n\n\n\n
URL:https://operabalet.mk/al/event/arrethyesja-petar-ilic-cajkovski-3-2-2023/
LOCATION:Array
CATEGORIES:Balet
ATTACH;FMTTYPE=image/jpeg:https://operabalet.mk/al/wp-content/uploads/sites/3/2020/12/orevkrsacka3.jpg
END:VEVENT
END:VCALENDAR