BEGIN:VCALENDAR
VERSION:2.0
PRODID:-//Opera dhe Baleti Nacional - ECPv4.0.7//NONSGML v1.0//EN
CALSCALE:GREGORIAN
METHOD:PUBLISH
X-WR-CALNAME:Opera dhe Baleti Nacional
X-ORIGINAL-URL:https://operabalet.mk/al
X-WR-CALDESC:Events for Opera dhe Baleti Nacional
BEGIN:VEVENT
DTSTART;TZID="UTC+0":20240130T200000
DTEND;TZID="UTC+0":20240130T223000
DTSTAMP:20260423T203511
CREATED:20240109T140526
LAST-MODIFIED:20240123T143842
UID:715-1706644800-1706653800@operabalet.mk
SUMMARY:ARRËTHYESJA - Petar Iliç Çajkovski (30.1.2024)
DESCRIPTION:\nPetar Iliç Çajkovski\nARRËTHYESJA\n30.01.2024 – ora 20:00\nKoreograf: Vasilij Ivanoviq Vainonen (Rusi)\nAdaptimi koreografik: Mihail Krapivin (Rusi)\nSkenograf: Anatolij Nezhnji (Rusi)\nKosumograf: Lupka Ristovska\nRepetitorë: Goran Bozhinov\, Aleksandra Mijallkova\, Biljana Pasharikovska\, Dafina Daniloska – Koçevska\, Maja Mitrovja - Bogojevska\nNë rolet kryesore:\nKlara: Marija Kiçevska Shokarovska\nPrinc: Francisko Himenes Ruiz (Spanjë)\nMarrin pjesë solistë\, ansambli i baletit pranë Operës dhe Baletit Nacional dhe nxënësit e shkollës “Ilija Nikollovski Luj”\n
URL:https://operabalet.mk/al/event/arrethyesja-petar-ilic-cajkovski-30-1-2024/
LOCATION:Array
CATEGORIES:Balet
ATTACH;FMTTYPE=image/jpeg:https://operabalet.mk/al/wp-content/uploads/sites/3/2020/12/orevkrsacka3.jpg
END:VEVENT
END:VCALENDAR