BEGIN:VCALENDAR
VERSION:2.0
PRODID:-//Opera dhe Baleti Nacional - ECPv4.0.7//NONSGML v1.0//EN
CALSCALE:GREGORIAN
METHOD:PUBLISH
X-WR-CALNAME:Opera dhe Baleti Nacional
X-ORIGINAL-URL:https://operabalet.mk/al
X-WR-CALDESC:Events for Opera dhe Baleti Nacional
BEGIN:VEVENT
DTSTART;TZID="UTC+0":20221230T200000
DTEND;TZID="UTC+0":20221230T223000
DTSTAMP:20260423T174623
CREATED:20221213T135530
LAST-MODIFIED:20221213T140152
UID:566-1672430400-1672439400@operabalet.mk
SUMMARY:ARRËTHYESJA -  PETAR ILIÇ ÇAJKOVSKI (30.12.2022)
DESCRIPTION:\nPetar Iliç Çajkovskoi\nARRËTHYESJA\n30.12.2022 – 20:00\nKoreograf: Vasilij Ivanoviq Vainonen (Rusi)\nSkenograf: Anatolij Nezhnji (Rusi)\nKostumograf: Ljupka Ristovska\nKoncert-mjeshtër: Verica Lambevska\nRepetitorë: Goran Bozhinov\, Aleksandra Mijalkova\, Natasha Josifovska\, Biljana Pasharikovska\, Dafina Daniloska-Koçevska\nMarrin pjesë:\nMasha: Hristina Naqevska\nPrinci: Balazh Loçhei (Hungari)\nMasha e Vogël: Ela Kaner (Turqi)\nVëllai: Endru Kuk (Angli)\nMARRIN PJESË EDHE SOLISTË\, ANSAMBLI I BALETIT I OPERËS DHE BALETIT KOMBËTAR DHE FËMIJËT NGA SHKOLLA E MUZIKËS "ILIJA NIKOLOVSKI-LUJ"
URL:https://operabalet.mk/al/event/arrethyesja-petar-ilic-cajkovski-30-12-2022/
LOCATION:Array
CATEGORIES:Balet
ATTACH;FMTTYPE=image/jpeg:https://operabalet.mk/al/wp-content/uploads/sites/3/2020/12/orevkrsacka3.jpg
END:VEVENT
END:VCALENDAR