BEGIN:VCALENDAR
VERSION:2.0
PRODID:-//Opera dhe Baleti Nacional - ECPv4.0.7//NONSGML v1.0//EN
CALSCALE:GREGORIAN
METHOD:PUBLISH
X-WR-CALNAME:Opera dhe Baleti Nacional
X-ORIGINAL-URL:https://operabalet.mk/al
X-WR-CALDESC:Events for Opera dhe Baleti Nacional
BEGIN:VEVENT
DTSTART;TZID="UTC+0":20231228T200000
DTEND;TZID="UTC+0":20231228T220000
DTSTAMP:20260423T174717
CREATED:20231107T130157
LAST-MODIFIED:20231214T163636
UID:687-1703793600-1703800800@operabalet.mk
SUMMARY:ARRËTHYESJA - PETAR ILIÇ ÇAJKOVSKOI (balet-28.12.2023)
DESCRIPTION:\n28.12.2023\, ora 20:00\nPETAR ILIÇ ÇAJKOVSKOI\nARRËTHYESJA\n(balet)\nDirigjent:\nKoreograf: Vasilij Ivanoviq Vainonen (Rusi)\nAdaptimin koreografik: Mihail Krapivin (Rusi)\nSkenograf: Anatolij Nezhnji (Rusi)\nKostumograf: Ljupka Ristovska\nKoncert mjeshtër: Kliment Todoroski\nMarrin pjesë:\nKlara: Hristina Naqeva\nPrinci: Ballazh Loçei\n
URL:https://operabalet.mk/al/event/arrethyesja-petar-ilic-cajkovskoi-balet/
LOCATION:Array
CATEGORIES:Balet
ATTACH;FMTTYPE=image/jpeg:https://operabalet.mk/al/wp-content/uploads/sites/3/2020/12/orevkrsacka3.jpg
END:VEVENT
END:VCALENDAR