BEGIN:VCALENDAR
VERSION:2.0
PRODID:-//Opera dhe Baleti Nacional - ECPv4.0.7//NONSGML v1.0//EN
CALSCALE:GREGORIAN
METHOD:PUBLISH
X-WR-CALNAME:Opera dhe Baleti Nacional
X-ORIGINAL-URL:https://operabalet.mk/al
X-WR-CALDESC:Events for Opera dhe Baleti Nacional
BEGIN:VEVENT
DTSTART;TZID="UTC+0":20240302T200000
DTEND;TZID="UTC+0":20240302T223000
DTSTAMP:20260423T161309
CREATED:20240212T154917
LAST-MODIFIED:20240226T155330
UID:731-1709409600-1709418600@operabalet.mk
SUMMARY:"BERBERI I SEVILËS" - Xhoakino Rosini (2.3.2024)
DESCRIPTION:\nOPERA DHE BALETI NACIONAL- OPERA\nXhoakino Rosini\n"BERBERI I SEVILËS"\n \n02.03.2024 - Salloni i OBN\, ora 20:00\nDirigjent: Ivan Eminoviq\nRegjisor: Ursula Horner (Austri)\nAsistent dirigjent: Katerina Stojkovska\nAsistent regjisor: Ljupka Jakimovska\, Trajko Jordanovski\nSkenografia: Marija Veterovska\nKostumografia: Maria Pupuçevska\nMjeshtri koncerti:\nMjeshtër kori: Gjurgjica Dashiq\nKorepetitorë: Elena Siljanoska\, Janinka Nevçeva\, Andreja Naunov\, Jordan Petrushevski\nInspicientë: Ljupço Polizov\, Dragan Kostadinoviq\, Marko Pavlevski\nPëshpëritës: Nevena Georgieva\nFigaro: Vasko Zdravkov\nRozina: Biljana Josifov\nKonti Almaviva: Roberto Jaçini Virgilij - Itali\nDon Basilio: Vlladimir Sazdovski\nDon Bartolo: Neven Siljanovski\nBerta: Sonja Pendovska Madevska\nFiorello: Dragan Ampov\nAmbrosio: Marko Dimovski\nNjeriu i gurit: Borko Bigjovski\nCembalo: Elena Siljanoska\n*kohëzgjatja e shfaqjes 150 minuta\nSinopsis “Berberi i Sevilës”\nVeprimi i operës zhvillohet në Sevilje. Rozina është një vajzë e re\, e dashuruar me Kontin Almaviva. Konti i ri dhe i pashëm\, këndon çdo ditë nën dritaren e Rozinës për t'u afruar më shumë me të. Por\, Rozina ruhet nga mjeku i vjetër Bartolo\, i cili dëshiron të martohet me të dhe nuk e lejon të dalë nga shtëpia. Figaro\, berberi personal i Bartolos\, ndihmon Rozinën dhe Almavivën të takohen\, duke e prezantuar Almavivën si mësues kënge. Dhe ndërsa Figaro rruan Bartolo\, Rosina dhe Almaviva bien dakord për të ardhmen e tyre.\nPër të realizuar dashurinë e tyre të ndërsjellë\, Figaro ndihmon Rozinën dhe Almavivën\, duke u sjellë atyre një ofiqar dhe dëshmitarë. Në atë moment bëhet dasma dhe plaku Bartola duhet të pranojë fitoren e rinisë dhe dashurisë.\n"BERBERI I SEVILJES" - Xhoakino Rosini\n\nVeprimi i operës zhvillohet në Sevilje. Rosina është një vajzë e re e dashuruar me Kontin Almaviva. Konti i ri dhe i pashëm këndon çdo ditë nën dritaren e Rozinës për t'u afruar më shumë me të. Por\, Rosina ruhet nga mjeku i vjetër Bartolo\, i cili dëshiron të martohet me të dhe nuk e lejon të dalë nga shtëpia. Figaro\, berberi personal i Bartolos\, ndihmon Rozinën dhe Almavivën të takohen duke e prezantuar Almavivën si mësuese kënge. Dhe ndërsa Figaro rruan Bartolo\, Rosina dhe Almaviva bien dakord për të ardhmen e tyre.\nPër të realizuar dashurinë e tyre të ndërsjellë\, Rosina dhe Almaviva ndihmohen nga Figaro duke u sjellë atyre një oficer dhe dëshmitarë. Në atë moment bëhet dasma dhe plaka Bartola duhet të pranojë fitoren e rinisë dhe dashurisë.\n\nSinopsis:\nAKTI I\nNjë rrugë në Sevilje. Konti Almaviva i këndon serenatë Rosinës\, e mbrojtura e doktor Bartolo. Arrin berberi Figaro\, një djalë i gëzuar dhe me vetëbesim. Ai me para dhe fjala miradije do ta ndihmojë kontin që të arrijë te e dashura e tij. Bartolo ruan rreptësishtë dhe me xhelozi Rozinën\, sepse ai vetë dëshiron të martohet me të. Ajo nga ana e saj e do Lindoron\, i cili në fakt është Konti Almaviva. Bartolo dhe Basilio vendosin të akuzojnë kontin përballë Rosinës. Figaro përpiqet të fitojë ndaj Rosina për Kontin Almaviva\, por me gëzim vëren se këtu nuk nevojitet asnjë përpjekje\, sepse Rosina në personazhin e Lindoros tashmë e do kontin. Rosina i jep Figaros një letër dhe berberi largohet i lumtur. Papritur një ushtar nxiton në shtëpi\, me sa duket i dehur. Është konti ai që i zbulohet Rosinës. Almaviva\, për shkak të rrëmujës që u ngrit në shtëpi me ardhjen e tij\, duhet të arrestohet\, por ai i pëshpërit komandantit diçka dhe nuk flitet më për arrestimin. Bartolo është i habitur.\n\nAKTI II\nAlmaviva\, i maskuar si mësues muzike\, i jep Rozinës mësim për këngë. Figaro rruan Bartolo-n\, kurse Almaviva dhe Rosina merren vesh për t'u larguar fshehurazi. Figaro shfaqet dhe është tepër kurioz\, gjë që e bën Bartolo-n dyshues. Mbërrin Basilio dhe duhet të thërrasë noterin\, por konti e jep ryshfet dhe në fund gjithçka përfundon me martesën e kontit dhe Rosinës\, të cilët marrin edhe bekimin e Bartolos.\n
URL:https://operabalet.mk/al/event/berberi-i-seviles-xhoakino-rosini-2-3-2024/
LOCATION:Array
CATEGORIES:Оperë
ATTACH;FMTTYPE=image/jpeg:https://operabalet.mk/al/wp-content/uploads/sites/3/2018/10/sevilski_slika.jpg
END:VEVENT
END:VCALENDAR