BEGIN:VCALENDAR
VERSION:2.0
PRODID:-//Opera dhe Baleti Nacional - ECPv4.0.7//NONSGML v1.0//EN
CALSCALE:GREGORIAN
METHOD:PUBLISH
X-WR-CALNAME:Opera dhe Baleti Nacional
X-ORIGINAL-URL:https://operabalet.mk/al
X-WR-CALDESC:Events for Opera dhe Baleti Nacional
BEGIN:VEVENT
DTSTART;TZID="UTC+0":20251213T200000
DTEND;TZID="UTC+0":20251213T230000
DTSTAMP:20260423T104903
CREATED:20251010T092639
LAST-MODIFIED:20251010T092853
UID:990-1765656000-1765666800@operabalet.mk
SUMMARY:“BERBERI I SEVILJES” - Xhoakino Rosini (13.12.2025)
DESCRIPTION:\nXhoakino Rosini\n“BERBERI I SEVILJES”\n13.12.2025 – Salloni i OBN-së\, ora 20.00\nDirigjent: Xhanluka Martinengi - Itali\nRegjisor: Ursula Horner (Austri)\nAsistent Dirigjent: Katerina Stojkovska\nAsistent Regjisor: Dejan Proshev\, Ljupka Jakimovska\, Trajko Jordanovski\nSkenograf: Marija Veterovska\nKostumograf: Marija Pupuçevska\nMjeshtër koncerti: Jane Bakevski\nMjeshtër kori: Gjurgjica Dashiq\nKorepetitorë: Elena Siljanoska\, Janinka Nevçeva\, Andreja Naunov\, Anastasia Grgovska\nInspicientë: Dragan Kostadinoviç\, Marko Pavlevski\, Katerina Boşkovska\nSuflerë: Nevena Georgieva\nFigaro: Roberto de Kandia(Roberto de Candia) – Itali\nRozina: Nikolina Janevska\nGrof Almaviva: Çang Vang(Chuan Wang) – Kinë\nDon Bazilio: Vladimir Sazdovski\nDon Bartolo:\nBerta: Zllata Toshevska Dimovska\nFiorelo: Dragan Ampov\nOficer: Kristijan Antovski\nAmbrozio:\nNjeriu prej guri: Borko Bixhovski\nÇembalo:\n*kohëzgjatja e shfaqjes 150 minuta\n
URL:https://operabalet.mk/al/event/berberi-i-seviljes-xhoakino-rosini-13-12-2025/
LOCATION:Array
CATEGORIES:Оperë
ATTACH;FMTTYPE=image/jpeg:https://operabalet.mk/al/wp-content/uploads/sites/3/2018/10/sevilski_slika.jpg
END:VEVENT
END:VCALENDAR