BEGIN:VCALENDAR
VERSION:2.0
PRODID:-//Opera dhe Baleti Nacional - ECPv4.0.7//NONSGML v1.0//EN
CALSCALE:GREGORIAN
METHOD:PUBLISH
X-WR-CALNAME:Opera dhe Baleti Nacional
X-ORIGINAL-URL:https://operabalet.mk/al
X-WR-CALDESC:Events for Opera dhe Baleti Nacional
BEGIN:VEVENT
DTSTART;TZID="UTC+0":20230210T200000
DTEND;TZID="UTC+0":20230210T223000
DTSTAMP:20260423T192934
CREATED:20230201T113655
LAST-MODIFIED:20230201T113655
UID:587-1676059200-1676068200@operabalet.mk
SUMMARY:BERBERI I SEVILJES - Xhoakino Rosini
DESCRIPTION:\nXhoakino Rosini\nBERBERI I SEVILJES\n \n10.02.2023 – ora 20.00\nDirigjent: Andreja Naunov\nRegjisor: Ursula Horner (Austri)\nAsistent regjisor: Ljupka Jakimovska\nSkenografe: Marija Veterovska\nKostumografe: Marija Pupuçevska\nKoncert-mjeshtër: Kliment Todoroski\nAss Dirigjente: Katerina Stojkovska\nMjeshtër kori: Gjurgjica Dashiq\nKorepetitorë: Elena Siljanoska\, Janinka Nevçeva\, Andreja Naunov\, Jordan Petrushevski\nMarrin pjesë:\nFigaro: Vasko Zdravkov\nRozina: Biljana Josifov\nKonti Almaviva: Blagoj Nacoski\nDon Basilio: Vladimir Sazdovski\nDon Bartolo: Neven Siljanovski\nBerta: Sonja Pendovska Madevska\nFiorello: Dragan Ampov\nAmbrosio: Jane Dunimagloski\nNjeriu prej guri: Borko Bijovski\nKori dhe Orkestra e Operës dhe Baletit Kombëtar\n\nInspicientë: Ljupço Polizov\, Dragan Kostadinoviq\, Marko Pavlevski\nSufler: Nevena Georgieva\nKohëzgjatja e shfaqjes 150 minuta\n
URL:https://operabalet.mk/al/event/berberi-i-seviljes-xhoakino-rosini/
LOCATION:Array
CATEGORIES:Оperë
ATTACH;FMTTYPE=image/jpeg:https://operabalet.mk/al/wp-content/uploads/sites/3/2018/10/sevilski_slika.jpg
END:VEVENT
END:VCALENDAR