BEGIN:VCALENDAR
VERSION:2.0
PRODID:-//Opera dhe Baleti Nacional - ECPv4.0.7//NONSGML v1.0//EN
CALSCALE:GREGORIAN
METHOD:PUBLISH
X-WR-CALNAME:Opera dhe Baleti Nacional
X-ORIGINAL-URL:https://operabalet.mk/al
X-WR-CALDESC:Events for Opera dhe Baleti Nacional
BEGIN:VEVENT
DTSTART;TZID="UTC+0":20240515T200000
DTEND;TZID="UTC+0":20240515T223000
DTSTAMP:20260423T193058
CREATED:20240419T130819
LAST-MODIFIED:20240423T134256
UID:756-1715803200-1715812200@operabalet.mk
SUMMARY:BUKUROSHJA E FJETUR - PETAR ILIÇ ÇAJKOVSKI (15.5.2024)
DESCRIPTION:\nPETAR ILIÇ ÇAJKOVSKI\nBUKUROSHJA E FJETUR\n(shfaqje baleti)\n15. 5. 2024 - 20.00\nDirigjent: Nayer Nagui\nKoreografi: Viktor Jaremenko (Ukrainë)\nAsistent koreograf: Tetjana Belecka (Ukrainë)\nSkenografi / Kostumografi: Miodrag Tabaçki (Serbi)\nDizajni i dritës: Milço Aleksandrov\nRepetitorë: Goran Bozhinov\, Aleksandra Mijalkova\, Sasha Evtimova\, Dafina Daniloska-Koçevska\, Maja Mitrovska-Bogojevska\nMjeshtër koncerti: Jane Bakeski\nViolinë solo: Kliment Todoroski\nViolonçel solo: Kiril Josifov\nNë rolet kryesor:\nPrincesha Aurora: Marta Petkova (Bullgari)\nPrinci Desiree: Nikola Haxhitanev (Bullgari)\nSOLISTË TË ANSAMBLIT Të BALETIT DHE ORKESTRA E OPERËS DHE BALETIT NACIONAL\nPrologu\nMbretit Florestan XXIV dhe mbretëreshës së tij u lindi një vajzë\, Princesha Aurora. Mjeshtri i vjetër i ceremonive – Katalabit\, duke kontrolluar listën e të ftuarve\, zbulon se për shkak të një gabimi të sekretarit të tij\, zana e keqe Karabos është ftuar në ceremoni. Emri i saj fshihet menjëherë nga lista e të ftuarve. Mbreti Florestan mbërrin me mbretëreshën\, të shoqëruar nga Zanat e Bukurisë\, Lumturisë\, Pasurisë\, Njerëzimit\, Gëzimit dhe Mëshirës. Të gjitha sjellin dhurata të shumta. Mes lojës me lira të oborrtarëve\, dëgjohet një zhurmë e dyerve. Zana e keqe Karabos kërkon të hyjë. Mbreti urdhëron menjëherë të mbyllen të gjitha hyrjet\, por më kot – shfaqet Karabosi me minjtë dhe lakuriqët e tij dhe menjëherë sulmon Katalibit. E tërbuar nga kërkesa e mbretit për t’u larguar nga pallati\, ajo mallkon Princeshën Aurora se pas një fëmijërie të lumtur në kulmin e rinisë së saj\, ajo do të ana vdesë. Zana Mimoza zbut këtë mallkim të tmerrshëm – Princesha Aurora nuk do të vdesë\, por do të flejë 100 vjet. Ajo dhe pjesa tjetër e zanave e detyrojnë Zanën Karabos të largohet nga pallati dhe secila prej tyre i jep bekimin princeshës Aurora.\nAkti i parë\n16 vjet më vonë. Ditëlindja e Princeshës Aurora. Njerëzit mblidhen para pallatit. Katër princër të huaj kanë mbërritur në këtë festë për të kërkuar dorën e Princeshës Aurora. Dy vajza po luajnë dhe në mes të lojës së tyre shfaqet një grua e panjohur që jep të dyja nga një bosht\, me të cilën fillojnë të kërcejnë\, megjithëse përdorimi i boshtit është i ndaluar në mbretërinë e Florestanit. Mbretëresha mbërrin e shoqëruar nga princërit dhe urdhëron që të merren dy vajzat. Princi Eme lutet për mëshirë të mbështetur nga princërit tjerë. Mbretëresha i fal dhe zbavitja vazhdon. Zonjat e oborrit lajmërojnë ardhjen e princeshës së bukur Aurora. Princërit janë të mahnitur nga bukuria e saj. Zemrën e princeshës Aurora e fiton vetëm princi Eme dhe ajo e zgjedh atë. Papritmas shfaqet Zana e keqe Karabos\, e cila me dinakëri i afrohet princeshës Aurora\, duke iu lutur me përulësi t’i japë një dhuratë\, boshtin e argjendtë. Ajo\, e mahnitur nga lodra e panjohur\, fillon të luajë me të. Mallkimi e bën atë të godasë veten me thikë dhe të vdesë. Pastaj Karabos i zbulohet në mënyrë ogurzi mbretëreshës\, duke i kujtuar asaj mallkimin. Princërit e zemëruar duan ta vrasin\, por Karabos zhduket. Shfaqet Zana e Jargavanët\, duke ngushëlluar mbretëreshën dhe princin e dëshpëruar se princesha Aurora nuk ka vdekur\, por vetëm e ka zënë gjumi dhe se një ditë do të zgjohet nga puthja e princit\, të cilin do ta sjellë kur të vijë koha. Princesha e bukur Aurora dërgohet në pallat\, njerëzit shpërndahen me lumturi të trishtuar dhe Zana e Jargavanët\, me fuqinë e magjisë së saj i vë në gjumë të gjithë dhe gjithçka përreth. Kështjella mbushet me drunj dhe bari.\nAkti i dytë\nPamja e parë\nShpyllëzim për 100 vjet. Në pyllin buzë liqenit ëndërrimtar përmes tingujve të brirëve të gjuetisë\, Princi Desire shmang një takim të fshehtë me Markizën. Ai ndjen shqetësim të brendshëm\, diçka e panjohur po e mbante në atë vend. Markiza largohet me nervozizëm. Dhe\, befas shfaqet një varkë e çuditshme\, e gjitha e zbukuruar me jargavan\, në të cilën ndodhet Zana e Jargavanit. Ajo i tregon princit të befasuar një vegim të princeshës së fjetur Aurora\, duke i thënë se ai mund ta zgjojë atë me një puthje dhe në këtë mënyrë ta çlirojë nga Fuqia e magjisë. Princi Desire i lutet zanës\, nëse mundet ta sheh të paktën hijen e saj. Zana thërret hijet dhe midis tyre hijen e princeshës së bukur Aurora. Princi Desire është marrëzisht i dashuruar dhe i vendosur të ndjekë Zanën e Jargavanët në kështjellën e magjepsur. Nisen me një varkë magjike.\nPamja e dytë\nZana e Jargavanët dhe Princi Desire mbërrijnë në kështjellë e fjetur njëqind vjet. Me shkopin magjik\, zana hap hyrjen në shkallët e kështjellës ku fle Princesha Aurora. Princi Desire e zgjon Princeshën Aurora me një puthje. Në të njëjtin moment\, të gjithë zgjohen. Mbretëresha falënderon Zanën Mimozë dhe ajo\, duke i uruar dashuri dhe lumturi Princit Desire dhe Princeshës Aurora\, largohet.\nPamja e tretë\nTë gjithë heronjtë e përrallave vijnë në dasmën e zhurmshme të Princit Desire dhe Princeshës Aurora. Zogu blu me princeshën Florina\, Maçoku me çizme me macen e bardhë\, Borëbardha me princin Floremon dhe shtatë xhuxhët\, Hirushja me princin\, Kësulëkuqja me ujkun\, Mjekra blu me pesë gratë e tij.\,…… Të gjithë të ftuarit i urojnë gëzim dhe lumturi çiftit të ri\n
URL:https://operabalet.mk/al/event/bukuroshja-e-fjetur-petar-ilic-cajkovski-15-5-2024/
LOCATION:Array
CATEGORIES:Balet
ATTACH;FMTTYPE=image/png:https://operabalet.mk/al/wp-content/uploads/sites/3/2024/04/zaspanata_webslide_mov52.png
END:VEVENT
END:VCALENDAR