BEGIN:VCALENDAR
VERSION:2.0
PRODID:-//Opera dhe Baleti Nacional - ECPv4.0.7//NONSGML v1.0//EN
CALSCALE:GREGORIAN
METHOD:PUBLISH
X-WR-CALNAME:Opera dhe Baleti Nacional
X-ORIGINAL-URL:https://operabalet.mk/al
X-WR-CALDESC:Events for Opera dhe Baleti Nacional
BEGIN:VEVENT
DTSTART;TZID="UTC+0":20210312T190000
DTEND;TZID="UTC+0":20210312T203000
DTSTAMP:20260423T192807
CREATED:20210308T115621
LAST-MODIFIED:20210308T115621
UID:393-1615575600-1615581000@operabalet.mk
SUMMARY:"CARMEN" - GEORGE BIZE (PERFORMANCA E KONCERTIT\, 12 Mars 2021)
DESCRIPTION:\nGeorges Bizet\n\,\, CARMEN \,\,\nPerformanca e koncertit\n12.3.2021\, ora 7 pasdite\nDirigjent: Bisera Chadlovska\nDrejtuar nga: Dejan Prosev\nSkenograf: Elena Ivanova (Bullgari)\nMjeshtër koncerti: Jane Bakevski\nKori - mjeshtër: Jurgica Dasic\, Jasmina Gjorgjeska\nBythë Dirigjent: Katerina Stojkovska\nPërkrahësit: Elena Siljanoska\, Janinka Nevceva\, Andreja Naunov\nNDJEKJA E TJETR ISSHT:\nCARMEN: Nikollina Janevska\nDON HOZE: Zoran Sotirov\nESCAMILIO: Riste Velkov\nMIKAELA: Zlata Tosevska\nI freskët: Katerina Stojanovska\nMERCEDES: Marika Popovi.\nDANKAIRO: Dragan Ampov\nREMENDADO: Dejan Stoev\nCUNIGA: Ernes Ibraimovski\nMORALES: Dragan Ampov\nVËREJTJE:\n*Ngjarja do të mbahet sipas protokolit të paraparë me gjendjen momentale të krijuar nga pandemija Kovid-19 për mbajtjen e ngjarjeve\,të lejuara nga Komisioni për sëmundjet infektive.Obligative është mbajtja e maskës mbrojtëse.\nJu lutemi për respektimin e masave mbrojtëse.\n*Orari i biletave online është në çifte me dy vende pranë njëri-tjetrit\, për shembull vendet 5 dhe 6\, 2 të lira\, pastaj 9 dhe 10 janë në shitje. Nëse keni nevojë për një biletë të vetme ose një kombinim të 3 vendeve të bashkuara \, ju lutemi na kontaktoni në numrin e telefonit 078 426 536.\n\n
URL:https://operabalet.mk/al/event/carmen-george-bize-performanca-e-koncertit-12-mars-2021/
LOCATION:Array
CATEGORIES:Koncert
ATTACH;FMTTYPE=image/png:https://operabalet.mk/al/wp-content/uploads/sites/3/2019/10/karmen-opera-ENG-12-10.png
END:VEVENT
END:VCALENDAR