BEGIN:VCALENDAR
VERSION:2.0
PRODID:-//Opera dhe Baleti Nacional - ECPv4.0.7//NONSGML v1.0//EN
CALSCALE:GREGORIAN
METHOD:PUBLISH
X-WR-CALNAME:Opera dhe Baleti Nacional
X-ORIGINAL-URL:https://operabalet.mk/al
X-WR-CALDESC:Events for Opera dhe Baleti Nacional
BEGIN:VEVENT
DTSTART;TZID="UTC+0":20170527T200000
DTEND;TZID="UTC+0":20170527T210000
DTSTAMP:20260424T174313
CREATED:20170516T094334
LAST-MODIFIED:20170516T094334
UID:235-1495915200-1495918800@operabalet.mk
SUMMARY:DINO IMERI - KONCERT HUMANITAR
DESCRIPTION:
URL:https://operabalet.mk/al/event/dino-imeri-koncert-humanitar/
LOCATION:Bulevar Goce Dellçev 4\, Shkup\, 1000\, Macedonia
CATEGORIES:Koncert
ATTACH;FMTTYPE=image/jpeg:https://operabalet.mk/al/wp-content/uploads/sites/3/2017/05/dino-imeri.jpg
END:VEVENT
END:VCALENDAR