BEGIN:VCALENDAR
VERSION:2.0
PRODID:-//Opera dhe Baleti Nacional - ECPv4.0.7//NONSGML v1.0//EN
CALSCALE:GREGORIAN
METHOD:PUBLISH
X-WR-CALNAME:Opera dhe Baleti Nacional
X-ORIGINAL-URL:https://operabalet.mk/al
X-WR-CALDESC:Events for Opera dhe Baleti Nacional
BEGIN:VEVENT
DTSTART;TZID="UTC+0":20211014T200000
DTEND;TZID="UTC+0":20211014T212000
DTSTAMP:20260423T193150
CREATED:20211008T103653
LAST-MODIFIED:20211008T105232
UID:433-1634241600-1634246400@operabalet.mk
SUMMARY:“Ditët e muzikës maqedonase 2021”  GALA KONCERT I SOLISTËVE DHE ORKESTRËS SË OPERËS DHE BALETIT KOMBËTAR
DESCRIPTION:\n“Ditët e muzikës maqedonase 2021”\nGALA KONCERT I SOLISTËVE DHE ORKESTRËS SË OPERËS DHE BALETIT KOMBËTAR\n14.10. 2021 – ora 20.00\nDirigjent Ivan Eminoviq\nRegjisor: Dejan Proshev\nMjeshtër koncerti: Verica Lambeska\nKorepetitorë: Elena Siljanoska\, Janinka Nevçeva dhe Andreja Naunov\nModerator: Tatjana Gërkovska\nSolistë: Kateriana Stojanovska – soprano\, Aleksandra Llazarevska – Vasilev – soprano\, Nade Talevska – soprano\, Jane Dumimaglloski – tenor\, Vlladimir Sazdovski – bas\, Armando Likaj – bariton (Shqipëri) Neven Siljanovski – bariton\, Goran Naçevski – bariton\, Vasko Zdravko – bariton.\nNë gala koncertin e solistëve dhe orkestrës së Operës dhe Baletit Kombëtar\, do të paraqiten fragmente të krijimtarisë operistike të autorëve maqedonas.\nPubliku do të ketë mundësi që për herë të parë\, pas paraqitjes së fundit në vitin 1955\, ta përcjellë uverturën nga opera e parë maqedonase\, Goce”\, nga kompozitori Kirill Makedonski (1925 – 1984). Në program do të jenë arie nga krijuesit më të shquar të veprave operistike\, themeluesit e historisë së muzikës maqedonase: Trajko Prokopiev (1909 – 1979) me arie nga opera “Ndarja”\, e cila shënon 50 vjetorin e krijimit\, Kirill Makedonaski me monologun nga opera “Car Samoili”\, Toma Proshev (1931 – 19996)\, të cilit i shënohet 90 vjetori i lindjes me arien nga opera “Rrjeti i merimangës”\, Akademik Risto Avramovski (1943 – 2007) me monologët nga opera “Dojçini i sëmurë”\, pastaj kompozitorët\, të cilët ende veprojnë dhe krijojnë vepra që do ta pasurojnë trashëgiminë muzikore të R. Maqedonisë: Stojan Stojkov (1941) me arie dhe duetin nga opera “Nusja e dragoit” dhe më të rinjtë: Goran Naçevski (1978) me arien nga opera “Midis ëndrrave dhe fluturimeve”\, Fatos Lumani (1983)\, Arijana Hasan aga dhe Sema/ fragment instrumental nga opera “Skenderbeu”.\nNë kuadër të koncertit do të ndahen edhe çmimet vjetore të Shoqatës së kompozitorëve të Maqedonisë.\nKjo ngjarje muzikore do të zhvillohet sipas protokolleve të paraparë me gjendje momentale të shkaktuar nga pandemia Kovid 19\, të miratuara nga Komisioni për sëmundje infektive.\nHyrja lejohet vetëm me dëshmi për vaksinim ose vërtetim për shërimin nga Kovid 19 gjatë 45 ditëve të fundit\, duke filluar nga dita e shërimit.\nËshtë e domosdoshme mbajtja e maskave mbrojtëse.\nBiletat në tel: 078 438 536\n
URL:https://operabalet.mk/al/event/ditet-e-muzikes-maqedonase-2021-gala-koncert-i-solisteve-dhe-orkestres-se-operes-dhe-baletit-kombetar/
LOCATION:Array
CATEGORIES:Balet
ATTACH;FMTTYPE=image/jpeg:https://operabalet.mk/al/wp-content/uploads/sites/3/2021/10/orkestar-efekt.jpg
END:VEVENT
END:VCALENDAR