BEGIN:VCALENDAR
VERSION:2.0
PRODID:-//Opera dhe Baleti Nacional - ECPv4.0.7//NONSGML v1.0//EN
CALSCALE:GREGORIAN
METHOD:PUBLISH
X-WR-CALNAME:Opera dhe Baleti Nacional
X-ORIGINAL-URL:https://operabalet.mk/al
X-WR-CALDESC:Events for Opera dhe Baleti Nacional
BEGIN:VEVENT
DTSTART;TZID="UTC+0":20260207T193000
DTEND;TZID="UTC+0":20260207T220000
DTSTAMP:20260423T083705
CREATED:20260127T163920
LAST-MODIFIED:20260206T104737
UID:1025-1770492600-1770501600@operabalet.mk
SUMMARY:“DON GIOVANNI” Wolfgang Amadeus Mozart (7.2.2026)
DESCRIPTION:\n“DON GIOVANNI”\nWolfgang Amadeus Mozart\n7.2.2026 / 19:30\nDirigjent: Gianluca Martinenghi – Itali\nDirigjente Asistente: Katerina Stojkovska\nRegjisor: Lev Pugliese (Itali)\nSkenograf: Marija Veteroska\nKostumografe: Marija Pupuchevska\nRegjisorë Asistentë: Trajko Jordanovski\, Ljupka Jakimovska\nKoreografe: Olga Pango\nKoncertmajtër: Kliment Todoroski\nZëvendës Drejtore e Korit: Jasmina Gjorgeska\, Gjurgica Dashikj\nShoqëruese: Elena Siljanoska\, Janinka Nevcheva\, Andreja Naunov\, Anastasija Grgovska\nMenaxherë Skene: Dragan Kostadinovikj\, Marko Pavlevski\, Katerina Boshkovska\nSugjeruese: Nevena Georgieva\nPËRFORMUESIT\nDon Giovanni: Cristian Federici (Itali)\nLeporello: Janusz Nosek (Poloni)\nKomendatori: Igor Durlovski\nDonna Anna: Ana Durlovski\nDon Ottavio: Nico Franchini (Itali)\nDonna Elvira: Zlata Toshevska Dimovska\nZerlina: Nikolina Janevska\nMasetto: Dragan Ampov\nKori dhe Orkestra e Operës dhe Baletit Kombëtar\n \nSinopsi\nAkti I\nLeporello ndodhet para vilës së Donna Annës dhe ankohet për detyrat e tij si shërbëtor i Don Giovannit. Mjeshtri i tij është i interesuar vetëm për aventura dashurie që shpesh i hedhin të dy në sprova dhe rreziqe. Don Giovanni shfaqet\, arrin të hyjë në dhomën e saj dhe përpiqet me forcë të marrë dashurinë e Donna Annës\, vajza e Komendatorit. Gjatë përpjekjes\, ajo arrin të çlirohet dhe kërkon ndihmë nga i ati. Duke u përpjekur ta mbrojë vajzën\, Komendatori vritet në duel nga Don Giovanni\, i cili ikën nga vendi i krimit. Donna Anna kthehet me të fejuarin e saj\, Don Ottavio gjen të atin të vdekur. Ajo dhe i fejuari betohen për hakmarrje.\nNë agim\, Don Giovanni flirton me një udhëtare të shoqërisë së lartë. Ajo është Donna Elvira\, një grua që ai e kishte joshur dikur në Burgos dhe e cila\, e shtyrë nga dashuria\, ka dalë në kërkim të tij. Don Giovanni shpëton duke e lënë shërbëtorin e tij Leporello të argëtojë Donna Elvirën. Duke dashur ta largojë nga dashuria e saj e pashpresë\, Leporello i tregon “listën” e grave që mjeshtri i tij ka joshur.\nNë tavernë\, fshatarët mblidhen për të festuar martesën e miqve të tyre Zerlina dhe Masetto. Don Giovanni bashkohet me festimet dhe menjëherë përpiqet të joshë nusen. Dhëndri zemërohet\, por shërbëtori besnik Leporello arrin ta qetësojë situatën\, duke i lënë Don Giovannit mundësinë të realizojë kurthin e tij ndaj nuses Zerlina. Vetëm me Zerlinën\, Don Giovanni përdor hijeshinë e tij\, por Donna Elvira mbërrin\, e ndërpret në qëllimin e tij të lig dhe e largon vajzën me mbrojtje. Donna Elvira e akuzon për një joshje të zbrazët\, të pandjeshme dhe të errët. Don Giovanni zemërohet sepse Donna Elvira e nxjerr në shesh lojën e tij.\nDonna Anna\, e cila është në zi\, dhe Don Ottavio mbërrijnë. Duke kërkuar justifikim për situatën para Donna Annës\, Don Giovanni tall Donna Elvirën dhe e shpall të çmendur\, ndërsa përpiqet të joshë Donna Annën. Por ajo e njeh zërin e burrit që u përpoq ta detyronte në dashuri dhe që është vrasësi i mundshëm i të atit.\nNë shtëpinë e tij\, i veshur për një festë martese që po planifikon për fshatarët\, dhe për ta fituar më lehtë Zerlinën\, Don Giovanni pi shampanjë me pasion. Zerlina i lutet Masettos ta falë për pabesinë e saj të supozuar. Masetto fshihet kur Don Giovanni shfaqet nga hija dhe përpiqet ta joshë përsëri Zerlinën. Tre burra të maskuar hyjnë në pallat. Gjatë festës\, Leporello mashtron Masettos duke e futur në një lojë\, dhe Don Giovanni e tërheq Zerlinën nga dhoma. Kur britma e vajzës për ndihmë tërheq vëmendjen e të pranishmëve\, Don Giovanni\, për të shpëtuar veten\, përpiqet ta akuzojë Leporellon. Fillimisht\, askush nuk akuzohet\, por Donna Anna dhe Donna Elvira heqin maskat dhe e akuzojnë Don Giovannin\, i cili mezi arrin t’i shpëtojë shpatës së Don Ottavios.\nAkti II\nNën dritaren e Donna Elvirës\, Don Giovanni i këndon një serenatë me mandolinë dhe shkëmben pallton dhe kapelën me Leporellon\, në mënyrë që Don Giovanni të mund të joshë shërbëtoren e Donna Elvirës. Leporello\, i maskuar si Don Giovanni\, e largon Donna Elvirën\, duke e lënë Don Giovannin të lirë të joshë shërbëtoren e saj.\nMasetto mbërrin me një grup fshatarësh të armatosur\, të vendosur ta ndëshkojnë Don Giovannin. I frikësuar dhe i maskuar si Leporello\, Don Giovanni i çon ata tek Leporello. Leporello zbulon identitetin e tij dhe ikën. Don Giovanni përfiton nga momenti kur mbeten vetëm për të rrahur Masettos. Zerlina mbërrin dhe e ngushëllon butësisht të fejuarin e saj.\nNë varreza\, Leporello takon mjeshtrin e tij\, ku një zë paralajmëron Don Giovannin për mallkimin e tij. Është zëri i Komendatorit\, të cilin Leporello e fton në darkë\, me sugjerimin e Don Giovannit\, për të pastruar ndërgjegjen dhe për të zhdukur mallkimin. Don Giovanni shpreson që statuja ta refuzojë propozimin\, por ajo pranon të vijë në darkë me Don Giovannin.\nLeporello i shërben darkën Don Giovannit\, kur Donna Elvira shpërthen në dhomë\, duke iu lutur Don Giovannit\, me të cilin ende është e dashuruar\, të ndryshojë mendje\, por ai refuzon.\n
URL:https://operabalet.mk/al/event/don-giovanni-wolfgang-amadeus-mozart-7-2-2026/
LOCATION:Array
CATEGORIES:Оperë
ATTACH;FMTTYPE=image/jpeg:https://operabalet.mk/al/wp-content/uploads/sites/3/2026/01/don-giovanii-WEB.jpg
END:VEVENT
END:VCALENDAR