BEGIN:VCALENDAR
VERSION:2.0
PRODID:-//Opera dhe Baleti Nacional - ECPv4.0.7//NONSGML v1.0//EN
CALSCALE:GREGORIAN
METHOD:PUBLISH
X-WR-CALNAME:Opera dhe Baleti Nacional
X-ORIGINAL-URL:https://operabalet.mk/al
X-WR-CALDESC:Events for Opera dhe Baleti Nacional
BEGIN:VEVENT
DTSTART;TZID="UTC+0":20221202T200000
DTEND;TZID="UTC+0":20221202T220000
DTSTAMP:20260424T001944
CREATED:20221111T100838
LAST-MODIFIED:20221125T143901
UID:553-1670011200-1670018400@operabalet.mk
SUMMARY:DON KISHOTI - Ludvig  Minkus (2.12.2022)
DESCRIPTION:\nLudvig  Minkus\nDON KISHOTI\n2.12.2022 – ora 20 \n \nDirigjent: Ivan Eminoviq\nKoreograf:  Viktor Jaremenko (Ukrainë)\nSkenograf: Andrej Zllobin (Ukrainë)\nKostumograf: Gana Ipatieva (Ukrainë)\nKoncert mjeshtër: Janë Bakevski\nMarrin pjesë:\nKitri:  Mimi Pop Aleksova Atanasovska\nBazili: Farancisko Himenez Ruiz (Spanjë)\nEspado: Boban Kovaçevski\nUliçna: Ivana Kocevska\nDon Kishoti\nProlog\nDon Kishoti endet nëpër botë për të lavdëruar emrin e tij me bëma të lavdishme. Ai emëron shërbëtorin Sanço Panço si mburojën e tij. Ata udhëtojnë nëpër botë për Don Kishotin për të gjetur "zonjën e zemrës së tij"\, Dylqinen.\nSinopsis\nAKTI I\nPamja 1\nArgëtim festiv në sheshin e Barcelonës. Kitri\, vajza e hanxhiut Lorenco është e dashuruar me Basilin\, i cili punon si berber. Babai i saj është kundër kësaj lidhjeje dhe dëshiron të martojë vajzën e tij me të pasurin Hidalgo Gamasha. Kitri me vendosmëri refuzon t'i nënshtrohet vullnetit të babait të saj. Kur festimet arrijnë kulmin\, Don Kishoti shfaqet në shesh me mburojën e tij\, Sanço Pançon. Lorenco fton zotërinë e pazakontë në tavernë. Sanço Panço mbetet në shesh i rrethuar nga të rinjtë\, të cilët bëjnë shaka me të. Ndërkohë\, Don Kishoti vëren Kitrin. “Kalorësi i lavdishëm” imagjinon se është bukuroshja Dylqine. Por Kitri zhduket. Ajo ikën me Basilin. Lorenco\, Gamashi\, Don Kishoti dhe Sanço Panço nisën në ndjekje të tyre.\nAKTI II\nPamja 2\nDuke kërkuar Kitri\, Don Kishoti dhe Sanço Panço hasin në një kamp ciganësh. Ciganët u ofrojnë atyre mikpritje dhe akomodim gjatë natës.\nPamja 3\nKupidi dhe mbretëresha e zanave të pyllit i shfaqen Don Kishotit në ëndërr\, duke i treguar atij "Zonjën e zemrës së tij"\, Dylqines me maskën e Kitrit. Kalorësi shikon lojën e bukuroshes Dylqine.\n Pamja 4\nKitri dhe Basili po argëtohen në han. Shfaqen Lorenco\, Gamashi\, Don Kishoti dhe Sanço Panço. Hanxhiu dëshiron të njoftojë menjëherë fejesën e Kitrit me Gamashin. Por Basili falsifikon vetëvrasjen. Kitri qan e dëshpëruar mbi trupin e palëvizshëm të të dashurit të saj. Don Kishoti dhe Sanço Panço ankohen dhe akuzojnë Lorencon se është shumë i egër. Ata ndjekin Hidalgon e mërzitshëm dhe detyrojnë Lorencon\, me armë\, të pranojë martesën e Kitrit dhe Basilit. Basili qetësohet\, nuk ka më nevojë të pretendojë se është "i plagosur për vdekje". Fillon një argëtim i përgjithshëm dhe Don Kishoti dhe Sanço Panço largohen nga hani.\nPamja 5\nPason një festë e përgjithshme për dasmën e Kitrit dhe Basilit. “Kalorësi i famshëm” është i ftuari i nderit në atë gëzim. Gjatë festës dy luftëtarët për drejtësi dhe liri largohen nga festa të etur për “\nDon Kishoti\nProlog\nDon Kishoti endet nëpër botë për të lavdëruar emrin e tij me bëma të lavdishme. Ai emëron shërbëtorin Sanço Panço si mburojën e tij. Ata udhëtojnë nëpër botë për Don Kishotin për të gjetur "zonjën e zemrës së tij"\, Dylqinen.\nSinopsis\nAKTI I\nPamja 1\nArgëtim festiv në sheshin e Barcelonës. Kitri\, vajza e hanxhiut Lorenco është e dashuruar me Basilin\, i cili punon si berber. Babai i saj është kundër kësaj lidhjeje dhe dëshiron të martojë vajzën e tij me të pasurin Hidalgo Gamasha. Kitri me vendosmëri refuzon t'i nënshtrohet vullnetit të babait të saj. Kur festimet arrijnë kulmin\, Don Kishoti shfaqet në shesh me mburojën e tij\, Sanço Pançon. Lorenco fton zotërinë e pazakontë në tavernë. Sanço Panço mbetet në shesh i rrethuar nga të rinjtë\, të cilët bëjnë shaka me të. Ndërkohë\, Don Kishoti vëren Kitrin. “Kalorësi i lavdishëm” imagjinon se është bukuroshja Dylqine. Por Kitri zhduket. Ajo ikën me Basilin. Lorenco\, Gamashi\, Don Kishoti dhe Sanço Panço nisën në ndjekje të tyre.\nAKTI II\nPamja 2\nDuke kërkuar Kitri\, Don Kishoti dhe Sanço Panço hasin në një kamp ciganësh. Ciganët u ofrojnë atyre mikpritje dhe akomodim gjatë natës.\nPamja 3\nKupidi dhe mbretëresha e zanave të pyllit i shfaqen Don Kishotit në ëndërr\, duke i treguar atij "Zonjën e zemrës së tij"\, Dylqines me maskën e Kitrit. Kalorësi shikon lojën e bukuroshes Dylqine.\n Pamja 4\nKitri dhe Basili po argëtohen në han. Shfaqen Lorenco\, Gamashi\, Don Kishoti dhe Sanço Panço. Hanxhiu dëshiron të njoftojë menjëherë fejesën e Kitrit me Gamashin. Por Basili falsifikon vetëvrasjen. Kitri qan e dëshpëruar mbi trupin e palëvizshëm të të dashurit të saj. Don Kishoti dhe Sanço Panço ankohen dhe akuzojnë Lorencon se është shumë i egër. Ata ndjekin Hidalgon e mërzitshëm dhe detyrojnë Lorencon\, me armë\, të pranojë martesën e Kitrit dhe Basilit. Basili qetësohet\, nuk ka më nevojë të pretendojë se është "i plagosur për vdekje". Fillon një argëtim i përgjithshëm dhe Don Kishoti dhe Sanço Panço largohen nga hani.\nPamja 5\nPason një festë e përgjithshme për dasmën e Kitrit dhe Basilit. “Kalorësi i famshëm” është i ftuari i nderit në atë gëzim. Gjatë festës dy luftëtarët për drejtësi dhe liri largohen nga festa të etur për bëma” të reja.
URL:https://operabalet.mk/al/event/don-kishoti-ludvig-minkus-2-12-2022/
LOCATION:Array
CATEGORIES:Balet
ATTACH;FMTTYPE=image/jpeg:https://operabalet.mk/al/wp-content/uploads/sites/3/2017/04/don-kihot.jpg
END:VEVENT
END:VCALENDAR