BEGIN:VCALENDAR
VERSION:2.0
PRODID:-//Opera dhe Baleti Nacional - ECPv4.0.7//NONSGML v1.0//EN
CALSCALE:GREGORIAN
METHOD:PUBLISH
X-WR-CALNAME:Opera dhe Baleti Nacional
X-ORIGINAL-URL:https://operabalet.mk/al
X-WR-CALDESC:Events for Opera dhe Baleti Nacional
BEGIN:VEVENT
DTSTART;TZID="UTC+0":20241220T200000
DTEND;TZID="UTC+0":20241220T220000
DTSTAMP:20260423T161019
CREATED:20241126T152424
LAST-MODIFIED:20241203T092624
UID:824-1734724800-1734732000@operabalet.mk
SUMMARY:“DON KISHOTI” - Ludvig Minkus (20.12.2024)
DESCRIPTION:\nLudvig Minkus\n“DON KISHOTI”\n20.12.2024 – ora 20:00\nDirigjent: Eduard Ambarcumian (Armenia)\nKoreograf: Viktor Jaremenko (Ukrainë)\nSkenograf: Andrej Zllobin (Ukrainë)\nKostumografe: Gana Ipatieva (Ukrainë)\nMjeshtër koncerti: Kliment Todoroski\nRepetitorë: Kire Pavllov\, Vollodomir Borisov (Ukrainë)\, Maria Josifovska Ristovska\, Dafina Danilloska-Koçevska\, Sasha Evtimova\nKorepetitorë: Marjan Vasilevski\, Stefan Pehçevski\nInspicientë: Dubravka Shopova\, Tijana Tarçugovska Georgieva\nPerformojnë:\nKitri: Hristina Naqevska Mitrashinoviq\nBazill: Ballazh Lloçei (Hungari)\nPERFORMOJNË SOLISTË\, ANSAMBLI I BALETIT DHE ORKESTRA E OPERËS DHE BALETIT NACIONAL DHE FËMIJË NGA DEPARTAMENTI I BALETIT TË QSHSHMB “ILIA NIKOLLOVSKI-LUJ”.\nKohëzgjatja: 1 orë e 40 minuta\n \nSinopsi “Don Kishoti”\nHyrje\nDon Kishoti bredh nëpër botë për ta lavdëruar emrin e tij me vepra të lavdishme. Ai emëron shërbëtorin Sanço Pansën si mbrojtësin e tij. Ata udhëtojnë nëpër botë që Don Kishoti ta gjej “zonjën e zemrës së tij”\, Dulçinenë.\nSinopsi\nAKTI I\nSkena 1. Atmosferë festive në sheshin e Barcelonës. Kitri\, vajza e hanxhiut Lorenco është e dashuruar me Basilin\, i cili punon si floktar. Babai i saj është kundër kësaj lidhjeje dhe dëshiron ta martojë vajzën e tij me pasanikun Hidalgo Gamashin. Kitri me vendosmëri refuzon t’i nënshtrohet vullnetit të babait të saj. Kur festimet arrijnë kulmin\, Don Kishoti shfaqet në shesh me mbrojtësin e tij\, Sanço Pansën. Lorenco e fton zotërinë e pazakontë në pijetore. Sanço Pansa mbetet në shesh i rrethuar nga të rinjtë\, të cilët bëjnë shaka me të. Ndërkohë\, Don Kishoti vëren Kitrin. “Kalorësi i lavdishëm” imagjinon se është bukuroshja Dulçinea. Por Kitri zhduket. Ajo ikën me Basilin. Lorenco\, Gamashi\, Don Kishoti dhe Sanço Pansa nisen pas tyre.\nAKTI II\nSkena 2. Duke e kërkuar Kitrin\, Don Kishoti dhe Sanço Pansa\, hasin kamp ciganësh. Ciganët u ofrojnë atyre mikpritje dhe akomodim.\nSkena 3. Kupidi dhe mbretëresha e zanave të pyllit i shfaqen Don Kishotit në ëndërr\, duke ia treguar atij “Zonjën e zemrës së tij” Dulçinenë me pamjen e Kitrit. Kalorësi e shikon lojën e të bukurës Dulçinea.\nSkena 4. Kitri dhe Basili argëtohen në pijetore. Shfaqen Lorenco\, Gamashi\, Don Kishoti dhe Sanço Pansa. Hanxhiu dëshiron ta shpall menjëherë fejesën e Kitrit me Gamashin. Por\, Basili shtiret sikur kryen vetëvrasje. Kitri e dëshpëruar qan mbi trupin e palëvizshëm të të dashurit të saj. Don Kishoti dhe Sanço Pansa kundërshtojnë dhe akuzojnë Lorencon se është shumë i ashpër. Ata e përzënë Hidalgon e bezdisshëm dhe e detyrojnë Lorencon me armë\, ta pranojë martesën e Kitrit dhe Basilit. Basili çohet\, nuk ka më nevojë\ntë shtiret se është “i plagosur për vdekje”. Fillon argëtimi i përgjithshëm\, kurse Don Kishoti dhe Sanço Pansa largohen nga pijetorja.\nSkena 5. Ndodh festim i përgjithshëm për dasmën e Kitrit dhe Basilit. “Kalorësi i famshëm” është i ftuari i nderit në këtë ngjarje. Gjatë festimit\, dy luftëtarët për drejtësi dhe liri largohen nga ngjarja\, të etur për vepra të reja “heroike”.
URL:https://operabalet.mk/al/event/don-kishoti-ludvig-minkus-20-12-2024/
LOCATION:Array
CATEGORIES:Balet
ATTACH;FMTTYPE=image/jpeg:https://operabalet.mk/al/wp-content/uploads/sites/3/2017/04/don-kihot.jpg
END:VEVENT
END:VCALENDAR