BEGIN:VCALENDAR
VERSION:2.0
PRODID:-//Opera dhe Baleti Nacional - ECPv4.0.7//NONSGML v1.0//EN
CALSCALE:GREGORIAN
METHOD:PUBLISH
X-WR-CALNAME:Opera dhe Baleti Nacional
X-ORIGINAL-URL:https://operabalet.mk/al
X-WR-CALDESC:Events for Opera dhe Baleti Nacional
BEGIN:VEVENT
DTSTART;TZID="UTC+0":20231018T200000
DTEND;TZID="UTC+0":20231018T220000
DTSTAMP:20260423T205126
CREATED:20231018T131756
LAST-MODIFIED:20231018T131813
UID:677-1697659200-1697666400@operabalet.mk
SUMMARY:ESMERALDA - Çezare Punji (baleti) 18.10.2023
DESCRIPTION:\n18.10.2023 ora 20:00\nÇezare Punji\nESMERALDA\n(baleti)\nDirigjente: Bisera Çadllovska\nKoreograf: Mihaill Krapivin (Rusi)\nSkenograf: Zhivojin Trajanoviq\nKostumografe: Ljupka Ristovska\nMjeshtër koncerti: Kliment Todoroski\nRepetitorë: Aleksandra Mijallkova\, Goran Bozhinov\, Vasil Çiçiashvili\, Biljana Pasharikovska\, Natasha Josifovska\, Ollga Pango\, Dafina Danilloska Koçevska\, Maja Mitrovska Bogojevska\, Aleksandr Stefanoviq Brangjolica\nKorepetitorë: Marjan Vasilevski\, Stefan Pehçevski\nIspicientë: Dubravka Shopova\, Tijana Tarçugovska Georgieva\nMARRIN PJESË:\nEsmeralda: Mimi Pop Aleksova Atanasovska\nFeb: Ballazh Lloçei ( Hungari)\nFler de Lis: Hristina Naqevska\nGudulla: Marija Josifovska Ristovska*\nKlod Frollo: Mirosllav Mitrashinoviq\nKvazimodo: Endru Kuk (Angli)\nESMERALDA\n(sipas romanit “Kanbanaria e Kishës së Shën Mërisë” të Viktor Hygos)\nAkti I\nNënës të rraskapitur Gudulla në gjumë\, ciganët ia vjedhin vajzën e vogël. Në sheshin e Parisit\, gungaçi Kuazimodo e zgjedhin si babanë  e shakaxhinjve të festës së tyre. Në shesh vijnë ciganët dhe Esmeralda\, e fillon vallëzimin e saj provokues. Klod Frollo\, kryepeshkopi\, e shikon me pasion. Esmeralda duke mbledhur para\, e çmendur ndalet para një gruaje të moshuar. Ajo është Gudulla. Kllod Frollo e urdhëron Kvazimodon ta kapë Esmeraldën. Në britmën e saj\, vjen kapiteni Fibus e shpëton atë dhe e lëshon Kuazimodon\, a Esmeralda e magjepsur shikon Fibusin. Dasma e Febit me Kler de Lis. Febi i sheh ciganët me Esmeraldën dhe i fton të hyjnë në kështjellë. Esmeralda është e lumtur dhe e ngallëzyer e fillon vallëzimin e saj\, dhe Febi bashkëngjitet me të.\nAkti II\nTaverna gjatë natës. Ciganët vallëzojnë. Vjen Febi\, a atje është dhe Kuazimodoja. Febi dhe Esmeralda shkojnë pas derës\, njëkohësisht vjen edhe Klod Frollo. Duke përqafuar Esmeraldën\, Febi goditet me thikë. Vrasësi fshihet\, a Kuazimodo merr thikën dhe e kupton se vrasësi është Klod Frollo. Esmeralda është e akuzuar për vrasje. Klod Frollo i ofron shpëtimin\, në kërkim dashurinë e saj.\nNë shesh përgatitet ndëshkim për Esmeraldën. Gudulla e njeh vajzën e saj dhe i akuzon ciganët për vjedhje. Ajo bie e vdekur. Kuazimodo e merr Esmeraldën dhe e çon në kishë\, por Klod Frollo e kthen te xhelati. Kuazimodo i tërbuar e shtyu Klod Frollon nga kulla e kishës.\n
URL:https://operabalet.mk/al/event/esmeralda-cezare-punji-baleti/
LOCATION:Array
CATEGORIES:Balet
ATTACH;FMTTYPE=image/jpeg:https://operabalet.mk/al/wp-content/uploads/sites/3/2023/10/esmeralda.jpg
END:VEVENT
END:VCALENDAR