BEGIN:VCALENDAR
VERSION:2.0
PRODID:-//Opera dhe Baleti Nacional - ECPv4.0.7//NONSGML v1.0//EN
CALSCALE:GREGORIAN
METHOD:PUBLISH
X-WR-CALNAME:Opera dhe Baleti Nacional
X-ORIGINAL-URL:https://operabalet.mk/al
X-WR-CALDESC:Events for Opera dhe Baleti Nacional
BEGIN:VEVENT
DTSTART;TZID="UTC+0":20160403T120000
DTEND;TZID="UTC+0":20160403T131500
DTSTAMP:20260424T090909
CREATED:20160330T075513
LAST-MODIFIED:20160402T204523
UID:111-1459684800-1459689300@operabalet.mk
SUMMARY:FLAUTI I VOGËL MAGJIK
DESCRIPTION:W.A MOZART - OPERA E PËRSHTATUR PËR FËMIJË\n\n \n\nRegjisor: Ursula Horner (Austri)\n\nAss.Regjisor: Ljupka Jakimovska\n\nSkenograf: Marija Veteroska\n\nPërshtatja e kostumografisë: Marija Pupuçevska\n\nMjeshtër ndriçimi: Vasko Lisiçov\n\nKorepetitorë: Elena Siljanoska\, Janinka Nevçeva\, Andreja Naunov\, Dominika Robe\n\nRegjisorë skenik: Mirçe Stojçevski-Ljupço Polizov\n\n \n\nPerformojnë:\n\nTamino: Denis Dimoski\n\nPapageno: Kristijan Antovski\, ora 11:00/ Ernes Ibraimovski\, ora 13:00\n\nPamina: Gonca Bogoromova\n\nMbretëresha e natës: Ana Rojdeva\n\nSarastro: Dime Petrov\n\nZonja e parë: Marija Naumovska\n\nZonja e dytë: Valentina Valevska\n\nZonja e tretë: Nikolina Janevska\n\nMonostatos: Zoran Daskalovski\n\nPapagena: Katerina Stojanovska\n\nFëmijët: Ilarija Dimulkova\n\nMilica Arsiq\n\nTeona Hristovska\n\nIsijan Vasilevski\n\nEva Margaritova
URL:https://operabalet.mk/al/event/flauti-i-vogel-magjik/
LOCATION:Bulevar Goce Dellçev 4\, Shkup\, 1000\, Macedonia
CATEGORIES:Оperë
ATTACH;FMTTYPE=image/png:https://operabalet.mk/al/wp-content/uploads/sites/3/2016/03/flejta.png
END:VEVENT
END:VCALENDAR