BEGIN:VCALENDAR
VERSION:2.0
PRODID:-//Opera dhe Baleti Nacional - ECPv4.0.7//NONSGML v1.0//EN
CALSCALE:GREGORIAN
METHOD:PUBLISH
X-WR-CALNAME:Opera dhe Baleti Nacional
X-ORIGINAL-URL:https://operabalet.mk/al
X-WR-CALDESC:Events for Opera dhe Baleti Nacional
BEGIN:VEVENT
DTSTART;TZID="UTC+0":20170421T200000
DTEND;TZID="UTC+0":20170421T224500
DTSTAMP:20260425T145130
CREATED:20170410T184918
LAST-MODIFIED:20170411T150534
UID:194-1492804800-1492814700@operabalet.mk
SUMMARY:FSHEHTËSIA IME  – MJUZIKELL PËR NDERË TË TOSHE PROESKI-IT (21.04.2017)
DESCRIPTION:
URL:https://operabalet.mk/al/event/fshehtesia-ime-mjuzikell-per-ndere-te-toshe-proeski-it-21-04-2017/
LOCATION:Bulevar Goce Dellçev 4\, Shkup\, 1000\, Macedonia
CATEGORIES:Оperë
ATTACH;FMTTYPE=image/jpeg:https://operabalet.mk/al/wp-content/uploads/sites/3/2017/04/tajno-moja_slide2.jpg
END:VEVENT
END:VCALENDAR