BEGIN:VCALENDAR
VERSION:2.0
PRODID:-//Opera dhe Baleti Nacional - ECPv4.0.7//NONSGML v1.0//EN
CALSCALE:GREGORIAN
METHOD:PUBLISH
X-WR-CALNAME:Opera dhe Baleti Nacional
X-ORIGINAL-URL:https://operabalet.mk/al
X-WR-CALDESC:Events for Opera dhe Baleti Nacional
BEGIN:VEVENT
DTSTART;TZID="UTC+0":20170324T200000
DTEND;TZID="UTC+0":20170324T223000
DTSTAMP:20260425T173137
CREATED:20170301T135130
LAST-MODIFIED:20170301T135130
UID:180-1490385600-1490394600@operabalet.mk
SUMMARY:FSHEHTËSIA IME  (PREMIERË) – MJUZIKELL PËR NDERË TË TOSHE PROESKI-IT
DESCRIPTION:
URL:https://operabalet.mk/al/event/fshehtesia-ime-premiere-mjuzikell-per-ndere-te-toshe-proeski-it/
LOCATION:Bulevar Goce Dellçev 4\, Shkup\, 1000\, Macedonia
CATEGORIES:Оperë
ATTACH;FMTTYPE=image/jpeg:https://operabalet.mk/al/wp-content/uploads/sites/3/2017/03/tajno_web1.jpg
END:VEVENT
END:VCALENDAR