BEGIN:VCALENDAR
VERSION:2.0
PRODID:-//Opera dhe Baleti Nacional - ECPv4.0.7//NONSGML v1.0//EN
CALSCALE:GREGORIAN
METHOD:PUBLISH
X-WR-CALNAME:Opera dhe Baleti Nacional
X-ORIGINAL-URL:https://operabalet.mk/al
X-WR-CALDESC:Events for Opera dhe Baleti Nacional
BEGIN:VEVENT
DTSTART;TZID="UTC+0":20210122T200000
DTEND;TZID="UTC+0":20210122T213000
DTSTAMP:20260423T193150
CREATED:20210116T093048
LAST-MODIFIED:20210127T125238
UID:347-1611345600-1611351000@operabalet.mk
SUMMARY:GALA KONCERT I OPERËS DHE "BOLERO"-MORIS RAVEL (shfaqje baleti) - 22.1.2021
DESCRIPTION:\nGALA KONCERT I OPERËS DHE "BOLERO"-MORIS RAVEL (shfaqje baleti)\n22.1.2021-ora 20\nGala Koncert i Operës\nMarrin pjesë solistët dhe Orkestri i Operës dhe Baletit Kombetarë\nDirigjente: Bisera Çadlovska\nSolistë:\nSandra Mitrovska - soprano\nKaterina Stojanovska - soprano\nGjorgji Cuckovski - tenor\nMarjan Jovanoski - bariton\nPubliku në pjesën e dytë do të ketë mundësi që të përcjellë baletin "BOLER" të Moris Ravel\, në koreografi të Sasha Evtimova\, e përgaditur në pajtim me rekomandimet e Komisionit për sëmundjet infektive. Ky është një balet nën maska\, pa prekje dhe në distancë.\nMerr pjesë:ansambli i femrave të baletit\, Katerina Stojanovska-soprane dhe Orekestra e Operës dhe Baletit Kombëtarë.\nDirigjente: Bisera Çadlovska\nMjeshtër koncert: Jane Baкевски\nKoreografe:Sasha Evtimova\nKostimografe:Marija Pupuçevska\nNdrqimi: Milço Aleksandrov\nVËREJTJE:\n*Ngjarja do të mbahet sipas protokolit të paraparë me gjendjen momentale të krijuar nga pandemija Kovid-19 për mbajtjen e ngjarjeve\,të lejuara nga Komisioni për sëmundjet infektive.Obligative është mbajtja e maskës mbrojtëse.\nJu lutemi për respektimin e masave mbrojtëse.\n*Orari i biletave online është në çifte me dy vende pranë njëri-tjetrit\, për shembull vendet 5 dhe 6\, 2 të lira\, pastaj 9 dhe 10 janë në shitje. Nëse keni nevojë për një biletë të vetme ose një kombinim të 3 vendeve të bashkuara \, ju lutemi na kontaktoni në numrin e telefonit 078 426 536.
URL:https://operabalet.mk/al/event/gala-koncert-i-operes-dhe-bolero-moris-ravel-shfaqje-baleti-22-1-2021/
LOCATION:Array
CATEGORIES:Balet,Koncert
ATTACH;FMTTYPE=image/jpeg:https://operabalet.mk/al/wp-content/uploads/sites/3/2021/01/orkestar-efekt.jpg
END:VEVENT
END:VCALENDAR