BEGIN:VCALENDAR
VERSION:2.0
PRODID:-//Opera dhe Baleti Nacional - ECPv4.0.7//NONSGML v1.0//EN
CALSCALE:GREGORIAN
METHOD:PUBLISH
X-WR-CALNAME:Opera dhe Baleti Nacional
X-ORIGINAL-URL:https://operabalet.mk/al
X-WR-CALDESC:Events for Opera dhe Baleti Nacional
BEGIN:VEVENT
DTSTART;TZID="UTC+0":20210112T200000
DTEND;TZID="UTC+0":20210112T211500
DTSTAMP:20260423T193021
CREATED:20201228T115923
LAST-MODIFIED:20201228T133941
UID:339-1610481600-1610486100@operabalet.mk
SUMMARY:Gala Koncert me rastin e festës “Vasilica” (12.1.2021)
DESCRIPTION:\nOpera dhe Baleti Kombëtarë vazhdon traditën shumë vjeçare mbi 25 vjet dhe të martën\,12 e të mërkurën 13 janarë 2021 do të mbajë Gala Koncert me rastin e festës “Vasilica”. Këtë vit koncerti mban emrin “Hitet më të mira”\, në fakt është bërë zgjedhje e hiteve më të mira të koncerteve të deritanishme\,me aranzhim sinfonik.Publiku do të ketë mundësi të kënaqet me hitet e popullarizuara tona dhe të huaja në interpretim të artistëve të shoqëruar nga Orkestra e Operës dhe Baletit Kombëtarë nën udhëheqjen e dirigjentes Bisera Çadllovska. Duke respektuar traditën e popullit për ta festuar këtë festë Opera dhe Baleti Kombëtarë e krijoi këtë koncert më 1993 dhe pastaj ndër vite u bë i njohur\,i popullarizuar dhe një ndër ngjarjet më të ndjekura te ne.\n\n 
URL:https://operabalet.mk/al/event/gala-koncert-me-rastin-e-festes-vasilica-12-1-2021/
LOCATION:Array
CATEGORIES:Koncert
ATTACH;FMTTYPE=image/jpeg:https://operabalet.mk/al/wp-content/uploads/sites/3/2020/12/VASILICA_2021_eng.jpg
END:VEVENT
END:VCALENDAR