BEGIN:VCALENDAR
VERSION:2.0
PRODID:-//Opera dhe Baleti Nacional - ECPv4.0.7//NONSGML v1.0//EN
CALSCALE:GREGORIAN
METHOD:PUBLISH
X-WR-CALNAME:Opera dhe Baleti Nacional
X-ORIGINAL-URL:https://operabalet.mk/al
X-WR-CALDESC:Events for Opera dhe Baleti Nacional
BEGIN:VEVENT
DTSTART;TZID="UTC+0":20210219T200000
DTEND;TZID="UTC+0":20210219T210000
DTSTAMP:20260423T192829
CREATED:20210208T140127
LAST-MODIFIED:20210209T092441
UID:387-1613764800-1613768400@operabalet.mk
SUMMARY:Gala koncert opere (19.2.2021)
DESCRIPTION:Gala koncert opere\n19.2.2021\, 20 ore\nDirigjent: Ivan Eminoviq\nRegjisor: Lupka Jakimovska\nМjeshtër koncerti: Verica Lambevska\n\nMarrin pjesë:\nRiste Vellkov - bariton\n Biljana Josifiv- sopran\n Dragan Ampov - bariton\n Zllata Toshevska - sopran\n Ana Rojdeva - sopran\nOrkestra e Operës dhe Baletit Kombëtar\n1. Uverturë nga opera “Lakuriqi” – J. Shtraus\n2. V. A. Mocart – Arie e kontit nga opera “Dasma e Figaros”\nInterpreton Dragan Ampov\n3. V. A. Mocart - Arie e Dona Elvirës nga opera “Don Xhovani”\nInterpreton Zllata Toshevska\n4. J. Shtraus – Arie e Adelës nga opera “Lakuriqi”\nInterpreton Ana Rojdeva\n5. Xh. Rosini – Aria e Rozinës nga opera “Berberi i Seviljes”\nInterpreton Biljana Josifov\n6. Xh. Verdi – Arie e Vargasit nga opera “Forca e fatit”\nInterpreton Riste Velkov\n7. P. I. Çajkovski – Arie e Oneginit nga opera “Evgjeni Onegini”\nInterpreton Dragan Ampov\n8. Zh. Bize - Arie e Mikaeles nga opera “Karmen”\nInterpreton Zllata Toshevska\n9. F. Lehar - Arie e Xhudites nga opera “Xhudita”\nInterpreton Ana Rojdeva\n10. G. Doniceti – Arie e Norinës nga opera “Don Paskuale”\nInterpreton Biljana Josifov\n11. Xh. Verdi – Arie e Makbetit nga opera “Makbeti”\nInterpreton Riste Velkov\n12. Xh. Puçini - Arie e Toskës nga opera “Toska”\nInterpreton Zllata Toshevska\n13. F. Lehar – Duet i Danillo dhe Hana “Lippen Schweigen” nga opera “Vejusha e lumtur”\nInterpretojnë Biljana Josifov dhe Dragan Ampov\nInspicient: Lupço Polizov\, Dragan Kostandinoviq\, Marko Pavlevski\n***********************************************\nVËREJTJE:\n*Ngjarja do të mbahet sipas protokolit të paraparë me gjendjen momentale të krijuar nga pandemija Kovid-19 për mbajtjen e ngjarjeve\,të lejuara nga Komisioni për sëmundjet infektive.Obligative është mbajtja e maskës mbrojtëse.\nJu lutemi për respektimin e masave mbrojtëse.\n*Orari i biletave online është në çifte me dy vende pranë njëri-tjetrit\, për shembull vendet 5 dhe 6\, 2 të lira\, pastaj 9 dhe 10 janë në shitje. Nëse keni nevojë për një biletë të vetme ose një kombinim të 3 vendeve të bashkuara \, ju lutemi na kontaktoni në numrin e telefonit 078 426 536.\n
URL:https://operabalet.mk/al/event/gala-koncert-opere-19-2-2021/
LOCATION:Array
CATEGORIES:Koncert,Оperë
ATTACH;FMTTYPE=image/jpeg:https://operabalet.mk/al/wp-content/uploads/sites/3/2021/01/orkestar-efekt.jpg
END:VEVENT
END:VCALENDAR