BEGIN:VCALENDAR
VERSION:2.0
PRODID:-//Opera dhe Baleti Nacional - ECPv4.0.7//NONSGML v1.0//EN
CALSCALE:GREGORIAN
METHOD:PUBLISH
X-WR-CALNAME:Opera dhe Baleti Nacional
X-ORIGINAL-URL:https://operabalet.mk/al
X-WR-CALDESC:Events for Opera dhe Baleti Nacional
BEGIN:VEVENT
DTSTART;TZID="UTC+0":20240228T200000
DTEND;TZID="UTC+0":20240228T223000
DTSTAMP:20260423T161144
CREATED:20240205T130020
LAST-MODIFIED:20240226T112923
UID:726-1709150400-1709159400@operabalet.mk
SUMMARY:GALA MBRËMJE E OSKARI-IT – GALA KONCERT (28.2.2024)
DESCRIPTION:\nGala mbrëmje e OSKARI-it – Gala koncert (28.2.2024)\n„Gala mbrëmje e Oskar-it “\n \nNë prag të ndarjes së 96-të të çmimeve Oskar\, Ju ftojmë në mbrëmjen e parë gala të Oskar-it në Operën dhe Baletin Nacional\, e mërkurë\, 28 shkurt\, 2024\, ora 20:00.\nKëngët më të bukura fitues të Oskar-it do të interpretohen nga këngëtarët më të mirë të estradës dhe operës\, të shoqëruar nga orkestra e Operës dhe Baletit Nacional dhe Xhaz Orkestri Nacional. Dirigjente është Bisera Çadlovska\, ndërsa regjisor Dejan Proshev.\nNë këtë udhëtim të paharruar muzikoro – filmik do t’Ju udhëheqë komentuesja e njohur i transmatimit të kësaj ngajrje madheshtore – Oskar-it\, Milanka Rashiq.\nNë mënyrën më të bukur të filmit\, eventi do të nisë me Tapetin e Kuq në orën 19:30.\nBëhuni pjesë e festës magjepsëse të magjisë së filmit dhe shijoni këngët që janë bërë hite të mëdha botërore ndër vite dhe janë pjesë e historisë së artit të shtatë!\nDirigjente Bisera Chadlovska\nRegjisor Dejan Proshev\nMjeshtër koncerti Verica Lambevska\nMjeshtri i dritës Milço Aleksandrov\nIdeja e projektit Milanka Rashiq\, Goran Naumovski\nPrezantuese Milanka Rashiq\nKoreograf Opera dhe Baleti Nacional Sasha Evtimova\nKoreograf TSK Rhythm Plus Ivan Angelkovski\nInspicientë Ljupço Polizov\, Dragan Kostadinoviq\, Marko Pavlevski\nArkivi muzikor Jordanço Teodosievski\, Igor Shoklevski\nPERFORMOJNË\nSolistë interpretues\, Orkestra e Operës dhe Baletit Nacional\ndhe Xhaz Orkestri Nacional\,\nÇifti solist nga Opera dhe Baleti Nacional\nAndrew Cook (Angli) dhe Sasha Evtimova\nÇifti i kërcimit nga TSK Rhythm Plus\,\nAndrej Dimoski dhe Angela Spirovska\nPROGRAMI\n1. Moon river - Goran Naumovski\n2. Parla piu piano - Tamara Radjenovic (Montenegro / England)\n3. Imperial march (Star Wars) - John Williams – Orkestri\n4. Endless love - Ana Petanovska dhe Hristijan Tonevski\n5. Up where we belong - Ana Petanovska dhe Hristijan Tonevski\n6. Take my breath away - Ana Mickovska\n7. Purple rain - Ana Petanovska\n8. What a feeling - Andrijana Janevska\n9. Footloose - Daniel Dann\n10. I`ve had the time of my life - Maja Grozdanovska Pançeva dhe Goran Naumovski\n11. Everything I do\, I do it for you - Denis Dimoski\n12. I have nothing - Ana Petanovska\n13. Beautiful Maria - Goran Naumovski\n14. My heart will go on - Nade Talevska\n15. Can you feel the love tonight - Denis Dimoski\n16. Listen - Nade Talevska\n17. Writing›s on the wall - Hristijan Tonevski\n18. Happy - Ana Petanovska dhe Hristijan Tonevski\n19. Skyfall - Vesna Gjinovska Ilkova\n20. Bring him home - Igor Durlovski\n21. Shallow - Igor Durlovski dhe Nade Talevska
URL:https://operabalet.mk/al/event/gala-mbremje-e-oskari-it-gala-koncert-28-2-2024/
LOCATION:Array
CATEGORIES:Koncert
ATTACH;FMTTYPE=image/jpeg:https://operabalet.mk/al/wp-content/uploads/sites/3/2024/02/oskarovska_gala_vecer.jpg
END:VEVENT
END:VCALENDAR