BEGIN:VCALENDAR
VERSION:2.0
PRODID:-//Opera dhe Baleti Nacional - ECPv4.0.7//NONSGML v1.0//EN
CALSCALE:GREGORIAN
METHOD:PUBLISH
X-WR-CALNAME:Opera dhe Baleti Nacional
X-ORIGINAL-URL:https://operabalet.mk/al
X-WR-CALDESC:Events for Opera dhe Baleti Nacional
BEGIN:VEVENT
DTSTART;TZID="UTC+0":20221221T200000
DTEND;TZID="UTC+0":20221221T223000
DTSTAMP:20260423T210402
CREATED:20221213T135848
LAST-MODIFIED:20221214T105954
UID:567-1671652800-1671661800@operabalet.mk
SUMMARY:GISELLE – ADOLPH ADAM (TEATRI KOMBËTAR I BEOGRADIT\, 21.12.2022)
DESCRIPTION:GISELLE – ADOLPH ADAM\n (TEATRI KOMBËTAR I BEOGRADIT\, 21.12.2022)\n VIZITË NË SHKUP\, E MËRKUR\, 21 DHJETOR 2022\n BALET KOMBËTAR I BEOGRADIT\n Premiera\, 14 prill 1957\n Versioni i rinovuar i koreografisë\n 27 qershor 1991\nADOLF ADAM\n ZhiZel\nNjë balet romantik në dy akte\nLibreti i T. GOTJE\, W. SEN ZHORZH\nKoreografi e LEONID LAVROVSKIT sipas Zh. Korali\, J. Perot\, M. Petipa\nRealizimi koreografik: KATARINA OBRADOVIQ\nKostumografia: BOZHANA JOVANOVIQ\nSkenografia: BORIS MAKSIMOVIQ\nZhizel: BOJANA ŽEGARAC KNEZEVIĆ\nAlbert: HOZE IGLESIAS\nHilarion\, pylltari: NIKOLLA BJANKO\nAkti I\nVILFRED: Millosh Zhivanoviç\nBATILDA\, BIJA E DUKE: Ivana Veselinoviq\nDUKA E KURLANDËS: Goran Staniç\nBERTA\, NËNA E ZHIZELIT: Iva Ignjatoviq\nPA DE DE: Teodora Spasiç\, Egor Burba\nSHOQET E ZHIZELIT: Dushanka Gjogjeviç\, Milja Gjuria\, Dejana Zlatanovski\,\nMilena Jankoviq\, Sonja Milovanov\, Silvija Junja Çiriç\,\nVALC: Natalija Aksentijeviq\, Ljiljana Velimirov\, Valentina Grujiçiç\, Olja Gjukiç\, Valentina Gjurashin\, Milena Iviç\, Milena Jankoviç\, Kristina Kovaçeviç\, Jovana Matiç\, Milena Ogrizoviç\, Mina Radoja\, Tijana Shebez\nLOJË FSHATI: Natalija Aksentijeviq\, Margareta Bata\, Valentina Grujiçiç\, Milena Iviç\,\nHelena Jovanoviq\, Kristina Kovaçeviq\, Milena Ogrizoviç\, Anastasia Sihova\nZheljko Grozdanoviç\, Dushan Milosavljeviç\, Luka Pejçinoviç\, Çedomir Radonjiç\,\nMihajlo Stefanoviq\, Emanuele Frigo\, Aleksa Çoliç\, Ivan Kosiç\nSuita e Dukës së KURLANDIT: Kristina Nikolovski\, Maja Ostojin\, Jelena Momirov\,\nBozhin Pavlovski\, Vladimir Panajotoviq\, Nemanja Suvaçareviç\nAkti II\nMIRTH\, MBRETËSHERA E ZANAVE: Ada Raspor\nDY ZANAT: Ljiljana Velimirov\, Tijana Shebez\nZANAT: Natalija Aksentijeviç\, Valentina Grujiçiq\, Dushanka Gjorgjeviç\, Olja Gjukiç\, Valentina Gjurashin\, Dejana Zlatanovski\, Milena Iviç\, Iva Ignjatoviç\, Milena Jankoviç\, Kristina Kovaçeviç\, Jovana Matiç\, Marina Miletiç\, Sonja Millovanova\, Milena Ogrizoviq\, Mina Radoja\, Ivana Saviq Jakiq Maja Stojakov\, Silvija Xhunja Çiriç\nDrejtor artistik i Baletit: ANA PAVLOVIQ\nDrejtore ekzekutive e Baletit: SMILJANA STOKIQ\nProducentët e baletit: BRANKICA KNEZHEVIQ\, GOJKO DAVIDOVIQ\nREPETITORE BALETI: ANA PAVLOVIQ\, TAMARA IVANOVIQ\, DALIJA IMANIQ\, MARIJA BAJÇETIQ\,\nMARIA VJESHTICA\, PASHA MUSIQ\nRestaurimi i kostumeve: KATARINA GRÇIQ NIKOLIQ\, asistente IVANA MLADENOVIQ\nMjeshtri i dritës: MIODRAG MILIVOJEVIQ | Dizajni i maskave: MARKO DUKIQ\nMjeshtri i skenës: NEVENKO RADANOVIQ | Inspicient: DEJAN FILIPOVIQ\nZHIZEL\n(Sinopsisi)\nBaleti Zhizel është një balat romantik – fantastik në dy akte. Nga paraqitja e parë në Paris\, 1841\, e deri më sot\, ky balet është ndër të vetmet që ka traditë të pandërprerë të shfaqjes.\nAkti i parë (real) e tregon takimin e vajzës së fshatit\, Zhizel me kontin Albert\, i cili kishte dalë për gjueti. Ajo pafundësisht dashurohet në të\, por nuk e di se ai është një njeri më i veçantë. Pylltari Hilarion\, i cili gjithashtu e dashuron Zhizelin\, mëson për ardhjen e kontit dhe kur suita e tij vjen në qytet\, midis të cilëve ishte edhe e fejuara e tij\, Batilda\, ai\, para të gjithëve e zbulon Albertin. Zhizeli\, duke mos mundur ta pranojë gënjeshtrën për atë dashuri\, vdes nga dhimbja e madhe.\nAkti i dytë (fantastik) e tregon lojën e zanave\, të cilat në fakt janë vajza që kishin vdekur para dasmave të tyre. Ato\, gjatë natës dalin nga varret e tyre dhe vallëzojnë. Secili që e sheh lojën e tyre vdes aty për aty. Atë natë në pyll vjen Hilarioni e pastaj edhe Alberti dhe ia tregojnë dashurinë e tyre Zhzelit së vdekur. Hilarioni kapet nga zanat dhe vritet\, kurse Albertin e shpëton dashuri e Zhizelit\, e cila me të vallëzon deri në orët e hershme të mëngjesit. Kur lind dielli\, zanat zhduken.
URL:https://operabalet.mk/al/event/giselle-adolph-adam-teatri-kombetar-i-beogradit-21-12-2022/
LOCATION:Array
CATEGORIES:Balet
ATTACH;FMTTYPE=image/jpeg:https://operabalet.mk/al/wp-content/uploads/sites/3/2022/12/zizel-beograd.jpg
END:VEVENT
END:VCALENDAR