BEGIN:VCALENDAR
VERSION:2.0
PRODID:-//Opera dhe Baleti Nacional - ECPv4.0.7//NONSGML v1.0//EN
CALSCALE:GREGORIAN
METHOD:PUBLISH
X-WR-CALNAME:Opera dhe Baleti Nacional
X-ORIGINAL-URL:https://operabalet.mk/al
X-WR-CALDESC:Events for Opera dhe Baleti Nacional
BEGIN:VEVENT
DTSTART;TZID="UTC+0":20241119T200000
DTEND;TZID="UTC+0":20241119T213000
DTSTAMP:20260423T144010
CREATED:20241114T074536
LAST-MODIFIED:20241114T074536
UID:821-1732046400-1732051800@operabalet.mk
SUMMARY:“GRATË E PUÇINIT” (19.11.2024)
DESCRIPTION:\nOPERA DHE BALETI NACIONAL: NGJARJE GALA\n“GRATË E PUÇINIT”\nKONCERT I SOLISTEVE TË OPERËS DHE TË BALETIT NACIONAL\n19.11.2024\, Holli i Operës dhe i Baletit Nacional\,  ora 20:00\nOpera dhe Baleti Nacional me krenari njofton për ngjarjen solemne gala në përkujtim të njëqindvjetorit të vdekjes së kompozitorit të madh italian\, Xhakomo Puçini.\nSi institucion\, ne kemi përgjegjësinë për të kultivuar artin dhe për t'ua përcjellë atë brezave të ardhshëm. Ne jemi të përkushtuar për të pasuruar skenën kulturore të vendit nëpërmjet repertorit dhe ngjarjeve të përshtatura për të gjitha moshat.\nNgjarja gala e donatorëve me titull “Gratë e Puçinit” do të mbahet më 19 nëntor 2024\, në hollin e Operës dhe të Baletit Nacional\, me fillim në ora 20:00. Publiku do të ketë mundësi të rrallë të shijojë paraqitjet më të mira të arieve më të famshme të Puçinit.\nNë koncert do të interpretohen 12 arie\, të interpretuara nga tetë soliste të shquara të teatrit tonë të operës\, me shoqërimin e pianos.\nSoliste:\nVesna Gjinovska Ilkova;\nSandra Mitrovska;\nPavlina Novakova Georgiev;\nZllata Toshevska Dimovska;\nAleksandra Llazarevska Vasilevski;\nKaterina Stojanovska;\nBiljana Josifov;\nIlina Mitrevska;\nShoqërues në piano:\nAndrej Naunov\nRegjisor:\nDejan Proshev\nNjëkohësisht do të hapet një ekspozitë me titull “Puçini gjatë historisë së OBM-së” ku do të prezantohen materiale nga arkivi ynë i pasur.\nKjo ngjarje paraqet kulmin e ofertës sonë kulturore vjetore dhe mundësi për t'u shoqëruar me artistët dhe ekipin kreativ të Operës Nacionale\, në atmosferë të jashtëzakonshme.\nPrania dhe mbështetja juaj do të na lejojë të thellojmë bashkëpunimin me komunitetin lokal dhe të krijojmë programe që do t'u mundësojnë mijëra njerëzve të përjetojnë artin skenik në mënyrën më të mirë të tij\, duke mbështetur kulturën dhe identitetin maqedonas.\nÇmimi i biletave për këtë ngjarje është 3000 denarë.\nNumri i biletave është i kufizuar dhe për këtë arsye ftojmë të gjithë të interesuarit të rezervojnë vendet e tyre nëpërmjet kanaleve tona zyrtare.\nProgrami:\n \n1.Aria e Liut "Signore Ascolta" nga opera "Turandot"\nInterpreton: Biljana Josifov\n2.Aria e Manon "In quelle trine morbide"\, nga opera "Manon Lescaut"\nInterpreton: Zlata Toshevska Dimovska\n3.Aria e Magdës "Chi il bel sogno di Doretta" nga opera "La Rondine"\nInterpreton: Ilina Mitrevska\n4.Aria e Mimit “Si. Mi chiamano Mimi” nga opera “Bohemia”\nInterpreton: Katerina Stojanovska\n5.Aria e Musettës "Quando m'en vo" nga opera "Bohemia"\nInterpreton: Aleksandra Lazarevska Vasilevski\n6.Aria e Giorgetta-s “E ben altro il mio sogno” nga opera “The Mantle”\nInterpreton: Pavlina Novakova Georgieva\n7.Aria e Manon Lescaut "Sola\,perduta\,abbondonata"\nInterpreton: Sandra Mitrovska\n8.Suor Angelika – Senza Mamma\nPërfundoi: Ilina Mitrevska\n9.Aria e Cho Cho San "Tu Tu Piccolo Iddio" nga opera "Madame Butterfly"\nInterpreton: Sandra Mitrovska\n10.Aria e Laurettës "O mio babbino caro" nga opera "Gianni Scicchi"\nInterpreton: Biljana Josifov\n11.Aria “Vissi d’arte” e Floria Toskës\, nga opera “Tosca”\nInterpreton: Vesna Gjinovska-Ilkova\n \n\n 
URL:https://operabalet.mk/al/event/grate-e-pucinit-19-11-2024/
LOCATION:Array
CATEGORIES:Koncert
ATTACH;FMTTYPE=image/png:https://operabalet.mk/al/wp-content/uploads/sites/3/2024/11/le_donne_di_puccini.png
END:VEVENT
END:VCALENDAR