BEGIN:VCALENDAR
VERSION:2.0
PRODID:-//Opera dhe Baleti Nacional - ECPv4.0.7//NONSGML v1.0//EN
CALSCALE:GREGORIAN
METHOD:PUBLISH
X-WR-CALNAME:Opera dhe Baleti Nacional
X-ORIGINAL-URL:https://operabalet.mk/al
X-WR-CALDESC:Events for Opera dhe Baleti Nacional
BEGIN:VEVENT
DTSTART;TZID="UTC+0":20230120T200000
DTEND;TZID="UTC+0":20230120T210000
DTSTAMP:20260423T191105
CREATED:20230110T144940
LAST-MODIFIED:20230110T144940
UID:578-1674244800-1674248400@operabalet.mk
SUMMARY:"HIRUSHJA" - Sergei Prokofiev (20.1.2023)
DESCRIPTION:\nSergei Prokofiev\n"HIRUSHJA"\n(20.1.2023)\n(Balet bashkëkohor në 3 pamje)\nNjë përrallë moderne për të gjitha moshat\nKoreograf: Aleksandar Iliç (Serbi)\nKostumografi: Katerina Radosheviç Galiç (Kroaci)\nSkenografi: Filip Korunovski\nDizajni i zërit: Georg Draushnik (Kroaci)\nDizajni i dritës: Milço Aleksandrov\nAsistent koreograf: Sasha Evtimova dhe Mojca Majcen (Slloveni)\nAsistente kostumografe: Angela Bogeska\nRepetitorë: Sasha Evtimova dhe Biljana Pasharikovska\nHirushja: Hristina Naqevska\, Bibi Basmaxhieva Kovaçevski\nPrinci: Miroslav Mitrashinoviq\, Igor Velanoski\nZana Engjël: Sasha Evtimova\nNjerka: Marija Josifovska Ristovska\, Cvetanka Maksimoska\nMotrat: Andru Kuk\, Kristian Jangos\nBabai: Dragan Koçoski\nHirushja e Vogël: Gala Koçevska\nMarrin pjesë solistët dhe ansambli i baletit të Operës dhe Baletit Nacional\nKohëzgjatja: 1 orë\nPërmbledhje e shkurtër për "Hirushen".\n...Dhe ata jetuan të lumtur përgjithmonë\, sepse dashuria është në ajër...por më parë ata duhej të ishin takuar....\nNë një qytet të vogël\, por të famshëm\, në sheshin kryesor\, ku ndodhet monumenti "Zana Zemër"\, miqtë takohen\, djemtë bien në dashuri me vajza\, pastruesi i oxhakut bën një pushim në orarin e tij dhe një vajzë me emrin Hirushja në me pëllëmbën subtile bart një valixhe plot ëndrra. Duke pritur të atin\, i cili i ka dërguar një letër\, ajo pret me padurim takimin dhe të shkojë në shtëpinë e përbashkët të ngrohtë\, një shtëpi ku askush nuk e do\, por ëndrrat e saj nuk e braktisin kurrë.\nMe ndihmën e Zanave të mençur dhe me pak magji\, ajo është gati për një vallëzim ku nuk është ftuar. Në ballo është vajza e preferuar dhe më e bukur\, me të cilën të gjithë djemtë janë të dashuruar\, aty është edhe ai i vërtetë - princi i ëndrrave të saj.\nRregulli është që të gjitha vajzat e mira duhet të jenë në shtëpitë e tyre para mesnatës.\nE dehur nga kërcimi\, e qeshura\, nga princi dhe shoqëria e tij\, ajo harron kohën dhe pikërisht në mesnatë fillon ëndrra e keqe.\nNë vorbullën e kërcimit\, mesnata godet\, Hirushja humb princin\, mendjen e shëndoshë\, por edhe njërën këpucë.\nPrinci e gjen këpucën rastësisht\, por ai nuk e di emrin e vajzës dhe se ku jeton.\nAi shpall kërkimin në qytet për ta gjetur vajzën që i humbi këpucën\, me premtimin se nëse e gjen vajzën\, do të martohet me të dhe ajo do të bëhet princeshë.\nPor\, a kishte ky rrëfim një fund të lumtur\, këtë nuk e dinte as Zana Zemër\, sepse të gjitha vajzat humbën nga një këpucë secila\, duke besuar në dëshirat dhe ëndrrat e tyre.\nTë gjitha jetuan të lumtur deri në fund të jetës\, bile edhe më gjatë\, pas kësaj historie.\nShumë\, shumë të lumtura\, sepse dashuria është në ajër....\n
URL:https://operabalet.mk/al/event/hirushja-sergei-prokofiev-20-1-2023/
LOCATION:Array
CATEGORIES:Balet
ATTACH;FMTTYPE=image/jpeg:https://operabalet.mk/al/wp-content/uploads/sites/3/2022/11/pepelashka_slide1.jpg
END:VEVENT
END:VCALENDAR