BEGIN:VCALENDAR
VERSION:2.0
PRODID:-//Opera dhe Baleti Nacional - ECPv4.0.7//NONSGML v1.0//EN
CALSCALE:GREGORIAN
METHOD:PUBLISH
X-WR-CALNAME:Opera dhe Baleti Nacional
X-ORIGINAL-URL:https://operabalet.mk/al
X-WR-CALDESC:Events for Opera dhe Baleti Nacional
BEGIN:VEVENT
DTSTART;TZID="UTC+0":20170523T200000
DTEND;TZID="UTC+0":20170523T213000
DTSTAMP:20260424T200923
CREATED:20170425T142508
LAST-MODIFIED:20170503T151128
UID:222-1495569600-1495575000@operabalet.mk
SUMMARY:IGOR DURLLOVSKI  - recital (23.05.2017)
DESCRIPTION:\n\nIGOR DURLLOVSKI – bas\, \n\nDINO IMERI – piano\n\nDEJAN PROSHEV - drejtor
URL:https://operabalet.mk/al/event/igor-durllovski-recital-23-05-2017/
LOCATION:Bulevar Goce Dellçev 4\, Shkup\, 1000\, Macedonia
CATEGORIES:Koncert
ATTACH;FMTTYPE=image/jpeg:https://operabalet.mk/al/wp-content/uploads/sites/3/2017/04/durlovski-recital.jpg
END:VEVENT
END:VCALENDAR