BEGIN:VCALENDAR
VERSION:2.0
PRODID:-//Opera dhe Baleti Nacional - ECPv4.0.7//NONSGML v1.0//EN
CALSCALE:GREGORIAN
METHOD:PUBLISH
X-WR-CALNAME:Opera dhe Baleti Nacional
X-ORIGINAL-URL:https://operabalet.mk/al
X-WR-CALDESC:Events for Opera dhe Baleti Nacional
BEGIN:VEVENT
DTSTART;TZID="UTC+0":20211126T200000
DTEND;TZID="UTC+0":20211126T223000
DTSTAMP:20260423T205028
CREATED:20211103T194959
LAST-MODIFIED:20211108T102857
UID:442-1637956800-1637965800@operabalet.mk
SUMMARY:KARMEN-Zhorzh Bize (26.11.2021)
DESCRIPTION:\nZhorzh Bize\nKARMEN\n26.11.2021 – ora 20.00\nDirigjent: Oksana Madarash (Ukrainë)\nRegjisor: Nina Najdenova (Bullgari)\nSkenograf: Elena Ivanova (Bullgari)\nKostumograf: Marija Papuçevska\nMjeshtër koncerti: Jane Bakevski\nMjeshtër kori: Jasmina Gjorgjeska\, Gjurgjica Dashiq\nKori i fëmijëve “Pikolo” – dirigjent: Vesna Dimçevska\nKoreograf: Olga Pango\nDizajni dritat: Vasko Lisiçov\nAsistent regjie: Trajko Jordanovski\, Lupka Joksimovska\nAsistent dirigjenti: Katerina Stojkovska\nKorepetitorë: Elena Siljanoska\, Janinka Nevçeva\, Andreja Naunov\nMarrin pjesë:\nKarmen: Nikolina Janevska\nDon Hoze: Zoran Sotirov\nEskamilio: Resite Velkov\nMikaela: Sandra Mitrovska\nFraskita: Ana Rojdeva Talevska\nMercedes: Sonja Pendovska - Madevska\nDankaior: Dragan Ampov\nRemendado: Dejan Stoev\nCuniga: Ernes Ibraimovski\nMorales: Dragan Ampov\nBeleti:\nFemrat: Ilijana Danailova\, Bojana Hristovska\, Angela Bogatinova\nMeshkujt: Mirosllav Mitrashinoviq\, Agim Baftiii\, Kristijan Jangos\, Nikolla Orso\nMarrin pjesë edhe kori e orlestra e Operës dhe Baletit Kombëtar\nInspicientë: Lupço Polizov\, Dragan Kostadinoviq\, Marko Pavlevski\nSuflerë: Pavlina Zdravkova\, Svetllana Georgieva\n
URL:https://operabalet.mk/al/event/karmen-zhorzh-bize-26-11-2021/
LOCATION:Array
CATEGORIES:Оperë
ATTACH;FMTTYPE=image/png:https://operabalet.mk/al/wp-content/uploads/sites/3/2019/10/karmen-opera-ENG-12-10.png
END:VEVENT
END:VCALENDAR