BEGIN:VCALENDAR
VERSION:2.0
PRODID:-//Opera dhe Baleti Nacional - ECPv4.0.7//NONSGML v1.0//EN
CALSCALE:GREGORIAN
METHOD:PUBLISH
X-WR-CALNAME:Opera dhe Baleti Nacional
X-ORIGINAL-URL:https://operabalet.mk/al
X-WR-CALDESC:Events for Opera dhe Baleti Nacional
BEGIN:VEVENT
DTSTART;TZID="UTC+0":20170310T200000
DTEND;TZID="UTC+0":20170310T210000
DTSTAMP:20260425T160022
CREATED:20170301T134817
LAST-MODIFIED:20170301T134948
UID:177-1489176000-1489179600@operabalet.mk
SUMMARY:KARMINA BURANA – KARL ORF (10.03.2017)
DESCRIPTION:Dirigjent: Sasho Tatarchevski\n\nKaterina Stojanovska - Soprano\nMarjan Jovanovski - bariton\nDejan Stoev - tenor\n\nOrkestra dhe Kori i Operës dhe Baletit të Maqedonisë
URL:https://operabalet.mk/al/event/karmina-burana-karl-orf-10-03-2017/
LOCATION:Bulevar Goce Dellçev 4\, Shkup\, 1000\, Macedonia
CATEGORIES:Koncert
ATTACH;FMTTYPE=image/jpeg:https://operabalet.mk/al/wp-content/uploads/sites/3/2017/03/carmina-poklon2.jpg
END:VEVENT
END:VCALENDAR