BEGIN:VCALENDAR
VERSION:2.0
PRODID:-//Opera dhe Baleti Nacional - ECPv4.0.7//NONSGML v1.0//EN
CALSCALE:GREGORIAN
METHOD:PUBLISH
X-WR-CALNAME:Opera dhe Baleti Nacional
X-ORIGINAL-URL:https://operabalet.mk/al
X-WR-CALDESC:Events for Opera dhe Baleti Nacional
BEGIN:VEVENT
DTSTART;TZID="UTC+0":20221217T200000
DTEND;TZID="UTC+0":20221217T210000
DTSTAMP:20260423T212427
CREATED:20221027T141403
LAST-MODIFIED:20221215T092149
UID:539-1671307200-1671310800@operabalet.mk
SUMMARY:„KARMINA BURANA“ - Karl Orf (17.12.2022)
DESCRIPTION:\n \nDirigjent: Bisera Çadllovska\nKoreograf dhe libreton: Kan Arsllan\nSkenograf: Miodrag Tabaçki (Serbi)\nKostumografia e baletit: Gizem Betil (Turqi)\nKostumografi e operës: Elena Donçeva\nKoncert mjeshtër: Kliment Todoroski\nRepetitorë:Goran Bozinov\, Aleksandra Mijalkova\, Dafina Daniloska-Koçevska\, Sasha Evtimova\nKor mjeshtër: Jasmina Gjorgjevska\nKorepetitorë: Elena Siljanoska\, Janika Nevçeva\nAndrej Naunov dhe Jordan Petrushevski\nInspicientë: Lupço Polizov\, Dragan Kostadinoviq\, Marko Pavlevski\nSufler: Nevena Georgieva\nSolistë të operës:\nSoprano: Nade Talevska\nBariton: Blagoj Nacoski\nKontra tenor: Niko Gјorgievski\nSolistë të baletit\nZjarri: Mimi Pop Alexova Atanasovska\nEra: Igor Velanoski (Francisco Jimenez Ruiz)\nFortuna: Ivana Kocevska\nUji: Sasha Evtimova (Hristina Nacevska)\nToka: Miroslav Mitrašinović (Balaž Ločei)\nMarrin pjesë edhe kori\, ansambli I baletit dhe orkestra e Operës dhe baletit kombëtar\nÇKA ËSHTË “KARMINA BURANA”. Thënë thjeshtë\, është çështja gjithmonë aktuale e gëzimit\, lirisë dhe pasionit të jetës për të cilën këndojnë studentët dhe klerikët udhëtues. Dorëshkrimi i shekullit të 13-të me të njëjtin emër\, i gjetur më 1803. në manastirin bavarez\, Benedictbever\, ishte frymëzimi i Orfit: më në fund njëzet tekste bëhen një propozim tekstual konkret për këtë realizim muzikor. Edhe këtu\, kompozitori nuk mbështetet në një kuptim të plotë dhe logjik të gjuhëve të ndryshme: duke kërkuar rrënjët e marrëdhënies që ekziston midis mitit\, muzikës dhe gjuhës\, ai ofron mirëkuptim në kombinimin e të gjithë elementëve dhe lëvizjen fizike të pashmangshme - ritmin. "Sa më i qartë dhe më i thjeshtë të jetë mesazhi - aq më i fortë dhe më i drejtpërdrejtë është efekti përfundimtar."\n\nKy parim kryesor i bindjes artistike të Orfit\, forca e tingullit dhe ritmit të tij\, buron nga shkolla eksperimentale e gjimnastikës\, muzikës dhe vallëzimit të Günterit\, bashkëthemelues i së cilësisht Orfi në 1924 në Munih. Bota e “Karmina Burana” është bota e dashur e realizuar nga më të përgatiturit. Aty ku Fati-Lumturia sundon botën dhe dielli dhe perëndia e dashurisë\, kanë fuqi mbi gjithçka\, ka gëzim të fortë e të pandalshëm. Muzika e Orfit dhe vizioni i tij për magjepsjen teatrale bëhen pjesë e ekstazës së teatrit antik grek: përmes saj rinovohen misteret\, ceremonitë rituale\, komedia latine dhe teatri popullor i asaj klime. Karmina Burana prej vitesh ka tërhequr vëmendjen e regjisorëve dhe koreografëve nga e gjithë bota për shkak të tërheqjes së sinkretizmit\, i cili rrezaton si një burim i pashtershëm mundësish për ide dhe frymëzime të reja.\n\n 
URL:https://operabalet.mk/al/event/karmina-burana-karl-orf-20-12-2022/
LOCATION:Array
CATEGORIES:Balet,Оperë
ATTACH;FMTTYPE=image/jpeg:https://operabalet.mk/al/wp-content/uploads/sites/3/2022/10/carmina_burana.jpg
END:VEVENT
END:VCALENDAR