BEGIN:VCALENDAR
VERSION:2.0
PRODID:-//Opera dhe Baleti Nacional - ECPv4.0.7//NONSGML v1.0//EN
CALSCALE:GREGORIAN
METHOD:PUBLISH
X-WR-CALNAME:Opera dhe Baleti Nacional
X-ORIGINAL-URL:https://operabalet.mk/al
X-WR-CALDESC:Events for Opera dhe Baleti Nacional
BEGIN:VEVENT
DTSTART;TZID="UTC+0":20231207T200000
DTEND;TZID="UTC+0":20231207T211000
DTSTAMP:20260423T174702
CREATED:20231120T113730
LAST-MODIFIED:20231120T113730
UID:699-1701979200-1701983400@operabalet.mk
SUMMARY:KARMINA BURANA - Karl Orf  (7.12.2023)
DESCRIPTION:\nKARMINA BURANA\nKarl Orf\n07.12.2023 - ora 20. \nSalloni i OBN\nDirigjent: Ivan Eminoviq\nMjeshtër koncerti:\nMjeshtër kori: Jasmina Gjorgjeska\nKorepetitorë: Elena Siljanoska\, Janinka Navçeva\, Andreja Naunov dhe Jordan Petrushevski\nInspicientë: Lupço Polizov\, Dragan Kostadinoviq\, Marko Pavlevski\nPëshpëritëse: Nevena Georgieva\nSolistë të operës:\nSoprano: Nade Talevska\nBariton: Vasko Zdravkov\nKontra tenor: Niko Gjorgievski\nMarrin pjesë: Kori dhe orkestra e Operës dhe Baletit Nacional\nÇKA ËSHTË “KARMINA BURANA”. Thënë thjeshtë\, është çështja gjithmonë aktuale e gëzimit\, lirisë dhe pasionit të jetës për të cilën këndojnë studentët dhe klerikët udhëtues. Dorëshkrimi i shekullit të 13-të me të njëjtin emër\, i gjetur më 1803\, në manastirin bavarez Benedictbever\, ishte frymëzimi i Orfit: më në fund njëzet tekste bëhen një propozim tekstual konkret për këtë realizim muzikor. Edhe këtu\, kompozitori nuk mbështetet në një kuptim të plotë dhe logjik të gjuhëve të ndryshme. duke kërkuar rrënjët e marrëdhënies që ekziston midis mitit\, muzikës dhe gjuhës\, ai ofron mirëkuptim në ndërthurjen e të gjithë elementëve dhe lëvizjen fizike të pashmangshme - ritmin. "Sa më i qartë dhe më i thjeshtë të jetë mesazhi - aq më i fortë dhe më i drejtpërdrejtë është efekti përfundimtar."\nKy është parimi kryesor i bindjes artistike të Orfit\, forca e tingullit dhe e ritmit të të cilit buron nga shkolla eksperimentale e gjimnastikës\, muzikës dhe vallëzimit të Günterit\, bashkëthemelues i së cilës ishte Orfi më 1924 në Munih. Bota e “Karmina Burana” është bota e dashur e realizuar nga më të përgatiturit. Aty ku Fati-Lumturia sundon botën dhe dielli dhe perëndia e dashurisë\, kanë fuqi mbi gjithçka\, ka gëzim të fortë e të pandalshëm. Muzika e Orfit dhe vizioni i tij për magjepsjen teatrale bëhen pjesë e ekstazës së teatrit antik grek: përmes saj rinovohen misteret\, ceremonitë rituale\, komedia latine dhe teatri popullor i asaj klime. Karmina Burana ka tërhequr prej vitesh vëmendjen e regjisorëve dhe të koreografëve nga e gjithë bota për shkak të tërheqjes së sinkretizmit\, i cili rrezaton si një burim i pashtershëm mundësish për ide dhe frymëzime të reja.
URL:https://operabalet.mk/al/event/karmina-burana-karl-orf-7-12-2023/
LOCATION:Array
CATEGORIES:Balet,Оperë
ATTACH;FMTTYPE=image/jpeg:https://operabalet.mk/al/wp-content/uploads/sites/3/2022/10/carmina_burana.jpg
END:VEVENT
END:VCALENDAR