BEGIN:VCALENDAR
VERSION:2.0
PRODID:-//Opera dhe Baleti Nacional - ECPv4.0.7//NONSGML v1.0//EN
CALSCALE:GREGORIAN
METHOD:PUBLISH
X-WR-CALNAME:Opera dhe Baleti Nacional
X-ORIGINAL-URL:https://operabalet.mk/al
X-WR-CALDESC:Events for Opera dhe Baleti Nacional
BEGIN:VEVENT
DTSTART;TZID="UTC+0":20221111T200000
DTEND;TZID="UTC+0":20221111T210000
DTSTAMP:20260424T002107
CREATED:20221027T141041
LAST-MODIFIED:20221107T093348
UID:536-1668196800-1668200400@operabalet.mk
SUMMARY:KAVALERIA RUSTIKANA - Pjetro Maskanji (11.11.2022)
DESCRIPTION:\nPjetro Maskanji\nKAVALERIA RUSTIKANA\n (11. 11. 2022– Ora 20)\nDirigjent: Ivan Eminoviq\nRegjia\ Xhandomeniko Vakari (Itali)\nAsistent regjie: Alesandro Idonea (Itali)\, Lupka Jakimovska\, Trajko Jordanovski\nSkenograf: Zoran Nikollovski\nKostumograf: Elena Donçeva\nKoncert mjeshtër: Jane Bakevski\nKor mjeshtër: Gjurgjica Dashiq\, Jasmina Gjorgjeska\nKorepetitorë: Elena Siljanovska\, Janinka Nevçeva\, Andreja Naunov\, Jordan Petrushevski\nInspicientë: Lupço Polizov\, Dragan Kostadinoviq\, Marko Pavlevski\nSufler: Nevena Georgieva\nMarrin pjesë:\nSantuca: Bllagica Pop Tomova\nTuridu: Zoran Sotirov\nAlfio: Boris Trajanov\nLola: Nikolina Janevska\nNëna Luçia: Markia Popoviq\nKori dhe orkestra e Operës dhe baletit kombëtar\n\nKAVALARIA RUSTIKANA NGA PJETRO MASKANJI\nOperë në një akt. Tradhti\, xhelozi\, hakmarrje = Tragjedi\nPërmbajtja: Një natë para pashkëve në një fshat sicilian. Santuca shkon drejt shtëpisë së Luçijas\, nëna e Turidit\, të cilin ajo e dashuron\, por në të cilën dashuri dyshon. Ajo shkon në atë shtëpi për të biseduar me të. Por\, në vend të bisedës\, ajo vëren se Turudi dhe Lola takohen fshehtas. Lola është gruaja e karrocierit Alfio. Turidi\, para se të shkojë në ushtri ishte fejuar me Lolën\, por në ndërkohë ajo ishte martuar me Alfion e pasur. Pas kthimit nga ushtria\, Turudu ishte dëshpëruar dhe kërkonte qetësi në përqafimin e fshatares Santuca\, e cila tani\, në sytë e fshatarëve\, konsiderohej si mëkatare. Ajo mbetet e vetmuar\, e hedhur nga të gjithë. Santuca\, duke mos mundur të tejkalojë xhelozinë\, i tregon nënës së Turudit\, Luçijas\,se çfarë mëkati kishte bërë i biri i saj. Vjen edhe Alfio\, i cili pas një kohë të gjatë kthehet në fshat dhe tregon se si e kishte vërejtur Turudin afër shtëpisë së tij.\nFjalët e Santucas dhe ato që i dëgjoi nga Alfio\, bëjnë që nëna Luçija të dyshojë\, por edhe të frikësohet. Vjen Turudu. Santuca dëshiron të bisedojë me të\, por pengohet nga Lola\, e cila bashkë me Turudin shkojnë në kishë. Santucas fshatarët ia mbyllin dyert e kishës dhe e lënë të vetëm. Vjen Alfio dhe ajo i tregon për tradhtinë e gruas së tij. Ai premton hakmarrje. Në ndërkohë Santuca vetëdijesohet për atë se çfarë kishte bërë\, por tani është vonë. Me qëllim që ta shpëtojë të dashurin e saj dhe ta kthejë nderin para fshatarëve\, ajo shkon për t’i thirr karabinierët që ta pengojnë Alfion të hakmerret dhe të shpëtojë Turudin. Pas shërbesës kishtare\, Turudi i fton miqtë që të pijnë për nder të tij. Vijnë edhe Lola dhe Alfio. Turudi i shikon se si vallëzojnë. Pas një diskutimi të ashpër\, Turudi dhe Alfio vendosin të dalin në dyluftim. Turudi më nuk ka rrugëdalje. Ai i drejtohet nënës së tij me lutjen që ta ruajë Santucan nëse ai nuk kthehet. Nëna Luçija akoma nuk kupton se çfarë po ndodh. Santuca vonohet me karabinierët. Dëgjohet vetëm një klithmë: “Turudi vdiq”.\n
URL:https://operabalet.mk/al/event/kavaleria-rustikana-pjetro-maskanji-11-11-2022/
LOCATION:Array
CATEGORIES:Оperë
ATTACH;FMTTYPE=image/jpeg:https://operabalet.mk/al/wp-content/uploads/sites/3/2022/10/cavaleria.jpg
END:VEVENT
END:VCALENDAR