BEGIN:VCALENDAR
VERSION:2.0
PRODID:-//Opera dhe Baleti Nacional - ECPv4.0.7//NONSGML v1.0//EN
CALSCALE:GREGORIAN
METHOD:PUBLISH
X-WR-CALNAME:Opera dhe Baleti Nacional
X-ORIGINAL-URL:https://operabalet.mk/al
X-WR-CALDESC:Events for Opera dhe Baleti Nacional
BEGIN:VEVENT
DTSTART;TZID="UTC+0":20170307T200000
DTEND;TZID="UTC+0":20170307T230000
DTSTAMP:20260425T132119
CREATED:20170301T134355
LAST-MODIFIED:20170301T134440
UID:174-1488916800-1488927600@operabalet.mk
SUMMARY:KLEOPATRA – BALET I VASILIJ MEDVEDEV (07.03.2017)
DESCRIPTION:
URL:https://operabalet.mk/al/event/kleopatra-balet-i-vasilij-medvedev/
LOCATION:Bulevar Goce Dellçev 4\, Shkup\, 1000\, Macedonia
CATEGORIES:Balet
ATTACH;FMTTYPE=image/jpeg:https://operabalet.mk/al/wp-content/uploads/sites/3/2017/03/Web-banner-2-876x390-ENG.jpg
END:VEVENT
END:VCALENDAR