BEGIN:VCALENDAR
VERSION:2.0
PRODID:-//Opera dhe Baleti Nacional - ECPv4.0.7//NONSGML v1.0//EN
CALSCALE:GREGORIAN
METHOD:PUBLISH
X-WR-CALNAME:Opera dhe Baleti Nacional
X-ORIGINAL-URL:https://operabalet.mk/al
X-WR-CALDESC:Events for Opera dhe Baleti Nacional
BEGIN:VEVENT
DTSTART;TZID="UTC+0":20210622T210000
DTEND;TZID="UTC+0":20210622T220000
DTSTAMP:20260423T193150
CREATED:20210616T125826
LAST-MODIFIED:20210616T125826
UID:415-1624395600-1624399200@operabalet.mk
SUMMARY:KONCERT I KORIT TË OPERËS DHE BALETIT KOMBËTAR (22.06.2021 QTQ (GTC) – HAPËSIRA E GJELBËR – ORA 21.00)
DESCRIPTION:\n\nKoncert i korit të Operës dhe Baletit Kombëtar\n\n\t06. 2021 –QTQ – Terraca e gjelbër- ora 21.\n\nDirigjentë dhe kor mjeshtër:\nJasmina Gjergeska dhe Gjurgica Dashiq\nPërcjellje në piano: Janinka Novçeva\nRegjisor: Trajko Jordanovski\nInspicientë: Lupço Polizov\, Dragan Kostadinoviq\, Marko Pavlevski\n\n \n\nProgrami:\n1. K.Orf – Karmina Burana -O fortuna\n2.Xh. Verdi – Opera Nabuko \,\,Gli aredi festive“\n3. Xh. Verdi – Opera Nabuko \,\,Va pensiero“\n4. Xh.Verdi – opera Trubadur \,\,Or co\, dadi ma fra poco“\n5. Xh.Verdi – opera Trubadur \,\,Vedi le fosche“\n6. Xh. Verdi – opera Travijata \,\, Coro di zingarelle e mattadori“\nInterpretojnë: Marija Naumovska dhe Borko Bixhovski\n7.  Zh. Bize – arie e Karmenit nga opera “Karmen” – Habanera –\nInterpreton: Helena Angelovska\n8. Zh. Bize – arie e Eskamiljos nga opera \,\,Karmen“\nInterpretojnë: Ernes Ibraimimovski\n9. Xh. Verdi – opera Travijata „Libiamo“\nInterpretojnë: Serafina Fantauzo dhe Nikolla Stojçeski\n\nInterpreton kori i Operës dhe Baletit Kombëtar\n\n \n\n 
URL:https://operabalet.mk/al/event/koncert-i-korit-te-operes-dhe-baletit-kombetar-22-06-2021-qtq-gtc-hapesira-e-gjelber-ora-21-00/
LOCATION:Array
CATEGORIES:Koncert
ATTACH;FMTTYPE=image/jpeg:https://operabalet.mk/al/wp-content/uploads/sites/3/2021/05/hor_koncert.jpg
END:VEVENT
END:VCALENDAR