BEGIN:VCALENDAR
VERSION:2.0
PRODID:-//Opera dhe Baleti Nacional - ECPv4.0.7//NONSGML v1.0//EN
CALSCALE:GREGORIAN
METHOD:PUBLISH
X-WR-CALNAME:Opera dhe Baleti Nacional
X-ORIGINAL-URL:https://operabalet.mk/al
X-WR-CALDESC:Events for Opera dhe Baleti Nacional
BEGIN:VEVENT
DTSTART;TZID="UTC+0":20230708T203000
DTEND;TZID="UTC+0":20230708T213000
DTSTAMP:20260423T144713
CREATED:20230609T082722
LAST-MODIFIED:20230703T125548
UID:646-1688848200-1688851800@operabalet.mk
SUMMARY:KONCERT I SOLISTETËVE TË KORIT TË OPERËS DHE BALETIT NACIONAL (08.07.2023)
DESCRIPTION:\n08.07.2023\nKONCERT I SOLISTETËVE TË KORIT TË OPERËS DHE BALETIT NACIONAL (08.07.2023)\nKoncert i solistëve të korit pranë Operës dhe Baletit Nacional ne hyrjen e OBN (nën qiellin me yje) – ora 20:30.
URL:https://operabalet.mk/al/event/koncert-i-solisteteve-te-korit-te-operes-dhe-baletit-nacional-08-07-2023/
LOCATION:Array
CATEGORIES:Koncert
ATTACH;FMTTYPE=image/gif:https://operabalet.mk/al/wp-content/uploads/sites/3/2016/03/03.gif
END:VEVENT
END:VCALENDAR