BEGIN:VCALENDAR
VERSION:2.0
PRODID:-//Opera dhe Baleti Nacional - ECPv4.0.7//NONSGML v1.0//EN
CALSCALE:GREGORIAN
METHOD:PUBLISH
X-WR-CALNAME:Opera dhe Baleti Nacional
X-ORIGINAL-URL:https://operabalet.mk/al
X-WR-CALDESC:Events for Opera dhe Baleti Nacional
BEGIN:VEVENT
DTSTART;TZID="UTC+0":20240426T200000
DTEND;TZID="UTC+0":20240426T210000
DTSTAMP:20260423T144632
CREATED:20240405T131027
LAST-MODIFIED:20240413T224155
UID:750-1714161600-1714165200@operabalet.mk
SUMMARY:KONCERT I SOLISTËVE TË KORIT TË OBN „DUETE DASHURIE“  (26.04.2024)
DESCRIPTION:\nOPERA DHE BALETI NACIONAL\nKONCERT I SOLISTËVE TË KORIT TË OBN\n„DUETE DASHURIE“ \n26.04.2024 \,HOLLI I OBN \, ORA 20.00\n \nPROGRAMI\n\n\n \t F. Lehar\, duet i Hanës dhe Danilos nga opera "Vejusha e lumtur" - Mila Nikolovska dhe Boban Rajçinoski\n \t G. Doniceti\, duet i Adinës dhe Nemorinos nga opera "Pije dashurie" - Biljana Baevska dhe Denis Dimoski\n \t Xh. Verdi\, dueti i Violetës dhe Alfredos nga opera "Traviata" Akti 1 - Biljana Kamçeva-Bozhinovska dhe Boban Rajçinoski.\n \t Xh. Puçini\, dueti i Mimit dhe Rodolfos nga opera "Bohemian" - Nadezhda Ruben dhe Niko Gjorgievski.\n \t V.A Mozart\, dueti i Zerlinës dhe Don Xhovanit nga opera "Don Xhovani" - Biljana Baevska dhe Ernes Ibraimovski\n \t Xh. Verdi\, dueti i Don Alvaro dhe Don Karlo nga opera "Fuqia e fatit" - Viktor Bitovski dhe Nikola Çedomirovski\n \t J. Ofenbah\, Barcarola nga opera "Përrallat e Hofmanit" - Marija Naumovska dhe Katerina Veskovska.\n \t Xh. Verdi\, duet nga opera "Traviata" nga Violeta dhe Alfredo\, akti III - Biljana Kamçeva-Bozhinovska dhe Viktor Bitovski.\n \t J. Ofenbach\, dueti i Zhulietës dhe Hofmanit nga opera "Përrallat e Hofmanit" - Marija Naumovska dhe Niko Gjorgievski.\n \t Xh. Verdi\, treshja Leonora\, Asucena dhe Manriko nga opera "Trubaduri" - Nadezhda Ruben\, Katerina Veskovska dhe Viktor Bitovski.\n \t Xh. Verdi\, dueti i Leonorës dhe Kontit Di Luna nga opera "Trubaduri" - Maria Naumovska dhe Ernes Ibraimovski.\n\nBashkëpunëtor artistik:\nElena Siljanovska \nInspicientë: Lupço Polizov\, Dragan Kstadinoviq\, Marko Pavleski\n \nUdhëheqës artistik\nOrce Ickovski \n
URL:https://operabalet.mk/al/event/koncert-i-solisteve-te-korit-te-obn-duete-dashurie-26-04-2024/
LOCATION:Array
CATEGORIES:Koncert
ATTACH;FMTTYPE=image/jpeg:https://operabalet.mk/al/wp-content/uploads/sites/3/2021/10/orkestar-efekt.jpg
END:VEVENT
END:VCALENDAR