BEGIN:VCALENDAR
VERSION:2.0
PRODID:-//Opera dhe Baleti Nacional - ECPv4.0.7//NONSGML v1.0//EN
CALSCALE:GREGORIAN
METHOD:PUBLISH
X-WR-CALNAME:Opera dhe Baleti Nacional
X-ORIGINAL-URL:https://operabalet.mk/al
X-WR-CALDESC:Events for Opera dhe Baleti Nacional
BEGIN:VEVENT
DTSTART;TZID="UTC+0":20210520T200000
DTEND;TZID="UTC+0":20210520T210000
DTSTAMP:20260423T193103
CREATED:20210521T093212
LAST-MODIFIED:20210521T093212
UID:404-1621540800-1621544400@operabalet.mk
SUMMARY:Koncert i solistëve të Operës Kombëtare (20.05.2021-youtube)
DESCRIPTION:\n\nOPERA DHE BALETI KOMBËTAR\nKoncert i solistëve të Operës Kombëtare\n20. 05. 2021 – ora 20.00/ Kanali YouTube i Operës dhe Baletit Kombëtar\n\nSolistë: Sandra Mitrovska – soparane\, Zoran Sotirov – tenor dhe Marjan Jovanoski – bariton\n\nBashkëpunëtor në piano: Andrej Naunov\nRegjisor: Dejan Proshev\nDritat dhe disejni: Millço Aleksandrov\nInspicientë: Dragan Kostandinoviq\, Marko Pavlevski\n\nProgrami:\n\n1. R. Leonkavalo – Aria e Rudolfos “Testa adorata” nga opera “Boemi”\nInterpreton: Zoran Sotirov\n\n2. Xh.Verdi – Aria e Amelisë “Morro\, ma prima in grazia” nga opera “Ballo nën maska”\nInterpreton: Sandra Mitrovska\n\n3. Xh. Verdi – Aria e Ranatos “Eri tu..” nga opera “Balla nën maska”\nInterpreton: Marjan Jovanoski\n\n4. Xh. Puçini – Aria e Dik Xhonson “Ch’ella mi creda” nga opera “Vajza nga perëndimi”\nInterpreton: Zoran Sotirov\n\n5. Xh. Puçini – Aria e Mimit “Si\, mi chiamano Mimi” nga opera “Boemi”\nInterpreton: Sandra Mitrovska\n\n6. R. Leonkavallo – Arija e Tonios nga opera “Palaçot”\nInterpreton: Marjan Jovanovski\n\n7. R. Leonkavallo – Aria e Kanios “Vesti la gubba” nga opera “Palaçot”\nInterpreton: Zoran Sotirov\n\n8. Xh. Verdi – Duet i Kont Luna dhe Leonores nga opera “Trubadur”\nInterpretojnë: Sandra Mitrovska dhe Marjan Jovanovski\n\n9. F. Çilea – Aria e Muricios “ L’anima ho seanca” nga opera “Adrijana Lekuvrer”\nInterpreton: Zoran Sotirov\n\n10. Zh. Bize - Aria e Eskamiljos nga opera “Karmen”\nInterpreton: Zoran Sotirov\n\n11. F. Çilea - Aria e Federikos “ L’amento di Federico” nga opera “Arleziana”\nInterpreton: Zoran Sotirov\n\n12. Xh. Puçini – Arija e Ço Ço San “Un bel di vedremo” nga opera “Madam Baterflaj”\nInterpreton: Sandra Mitrovska\n\n 
URL:https://operabalet.mk/al/event/koncert-i-solisteve-te-operes-kombetare-20-05-2021-youtube/
LOCATION:Array
CATEGORIES:Koncert,Оperë
ATTACH;FMTTYPE=image/jpeg:https://operabalet.mk/al/wp-content/uploads/sites/3/2021/05/vtor-recital-maj-2021.jpg
END:VEVENT
END:VCALENDAR