BEGIN:VCALENDAR
VERSION:2.0
PRODID:-//Opera dhe Baleti Nacional - ECPv4.0.7//NONSGML v1.0//EN
CALSCALE:GREGORIAN
METHOD:PUBLISH
X-WR-CALNAME:Opera dhe Baleti Nacional
X-ORIGINAL-URL:https://operabalet.mk/al
X-WR-CALDESC:Events for Opera dhe Baleti Nacional
BEGIN:VEVENT
DTSTART;TZID="UTC+0":20230701T210000
DTEND;TZID="UTC+0":20230701T220000
DTSTAMP:20260423T174827
CREATED:20230609T082823
LAST-MODIFIED:20230609T082823
UID:647-1688245200-1688248800@operabalet.mk
SUMMARY:KONCERT OPERISTIK “VERA SHKUPJANE” (01.07.2023 – ora 21:00)
DESCRIPTION:\n01.07.2023\nKONCERT OPERISTIK “VERA SHKUPJANE” (01.07.2023 – ora 21:00)\nKoncert operistik “ Vera shkupjane”- ora 21:00. (salloni i OBN)\nMarrin pjesë solistë dhe orkestra e IN OBN\nDirigjent: Revaz Javakshvili- Gjeorgji\n\n\n\n 
URL:https://operabalet.mk/al/event/koncert-operistik-vera-shkupjane-01-07-2023-ora-2100/
LOCATION:Array
CATEGORIES:Оperë
ATTACH;FMTTYPE=image/gif:https://operabalet.mk/al/wp-content/uploads/sites/3/2016/03/03.gif
END:VEVENT
END:VCALENDAR