BEGIN:VCALENDAR
VERSION:2.0
PRODID:-//Opera dhe Baleti Nacional - ECPv4.0.7//NONSGML v1.0//EN
CALSCALE:GREGORIAN
METHOD:PUBLISH
X-WR-CALNAME:Opera dhe Baleti Nacional
X-ORIGINAL-URL:https://operabalet.mk/al
X-WR-CALDESC:Events for Opera dhe Baleti Nacional
BEGIN:VEVENT
DTSTART;TZID="UTC+0":20250111T200000
DTEND;TZID="UTC+0":20250111T213000
DTSTAMP:20260423T133113
CREATED:20241224T142002
LAST-MODIFIED:20241224T142002
UID:834-1736625600-1736631000@operabalet.mk
SUMMARY:Koncert tradicional me rastin e Ditës së “Shën Vasilit” 2025(11.1.2025)
DESCRIPTION:\nKoncert tradicional me rastin e Ditës së “Shën Vasilit” 2025\n11 dhe 13 janar 2025\, salla e OBN\, ora 20:00\nDirigjent: Oliver Diaz - Spanjë\nSolistë:\nIrene Palazon- soprano\, Spanjë\nHose Luis Sola – tenor\, Spanjë\nProgrami:\n1. Xh. Verdi - uverturë nga opera “Nabuko”\n2. F. Çilea – arie e Federikos nga opera “Arleziana”\nEkzekuton: Hoze Luis Sola\n3. Xh. Puçini – Aria e Liut nga opera "Turandoti"\nEkzekuton: Irene Palazon\n4. Xh. Verdi - duet i Violeta Valerit dhe Alfredos nga opera "Traviata"\nEkzekuton: Irene Palazon dhe Hoze Luis Sola\n5. P. Maskanji – Intermeco nga opera "Kavaleria rustikana "\n6. Xh. Puçini – Arie e Xhorxhetës nga opera "Xhani Skiki"\nEkzekuton: Irene Palazon\n7. Xh. Doniceti – Aria e Nemorinos nga opera "Pija e dashurisë"\nEkzekuton: Hoze Luis Sola\n8. Xh. Puçini – duet i Mimit dhe Rodolfos nga opera "Bohemët"\n9. H. Shtraus - uverturë nga opera "Lakuriqi"\n10. Xh. Puçini – arie e Mizetës nga opera "Bohemët"\nEkzekuton: Irene Palazon\n11. P. Sorozbal - aria e Leandros nga opera "Taverna pranë...”\nEkzekuton: Hoze Luis Sola\n12. Xh. Verdi – duet i Violeta Valerit dhe Alfredos nga opera "Traviata/ Kënga e verës"\nEkzekuton: Irene Palazon dhe Hoze Luis Sola\nMerr pjesë: orkestra e OBN-së\nInspicientë: Dragan Kostadinoviq\, Marko Pavlevski\n
URL:https://operabalet.mk/al/event/koncert-tradicional-me-rastin-e-dites-se-shen-vasilit-202511-1-2025/
LOCATION:Array
CATEGORIES:Koncert
ATTACH;FMTTYPE=image/png:https://operabalet.mk/al/wp-content/uploads/sites/3/2024/12/orkestar_vasilica.png
END:VEVENT
END:VCALENDAR