BEGIN:VCALENDAR
VERSION:2.0
PRODID:-//Opera dhe Baleti Nacional - ECPv4.0.7//NONSGML v1.0//EN
CALSCALE:GREGORIAN
METHOD:PUBLISH
X-WR-CALNAME:Opera dhe Baleti Nacional
X-ORIGINAL-URL:https://operabalet.mk/al
X-WR-CALDESC:Events for Opera dhe Baleti Nacional
BEGIN:VEVENT
DTSTART;TZID="UTC+0":20240113T200000
DTEND;TZID="UTC+0":20240113T223000
DTSTAMP:20260423T144615
CREATED:20240109T095622
LAST-MODIFIED:20240110T153037
UID:712-1705176000-1705185000@operabalet.mk
SUMMARY:KONCERTI GALA TRADICIONAL ME RASTIN E FESTËS “VASILICA” (13.1.2024)
DESCRIPTION:\nKONCERTI GALA TRADICIONAL ME RASTIN E FESTËS “VASILICA”\n12 dhe 13 janar 2024\, ora 20:00\nDirigjent: Klod Lapalme (Claude Lapalm) – Kanadë\nRegjisor: Dejan Proshev\nMjeshtër koncerti: Jane Bakevski\nMjeshtër kori: Gjurgica Dashiq/Jasmina Gjorgjeska\nKoreograf: Sasha Eftimova\nInspicientë: Ljupço Polizov\, Dragan Kostadinoviq\, Marko Pavlevski\nMARRIN PJESË:\nVesna Ginovska Ilkova\, Sandra Mitrovska\, Bllagica Pop Tomova\, Nade Talevska\, Nikolina Janevska\, Biljana Josifov\, Zoran Sotirov\, Aleksandar Stefanoski\, Marjan Jovanoski\, Riste Velkov\, Igor Durlovski\, Vladimir Sazdovski\nMarrin pjesë solistë\, kori\, orkestra dhe baleti i Operës dhe Baletit Nacional\nPROGRAMI:\n1. P.I Çajkovski - polonezë nga opera “Eugeni Onegin”\nInterpreton baleti i Operës dhe Baletit Nacional\n2. E. Kalman\, aria e Konteshës Marica nga opereta me të njëjtin emër\nInterpreton Nade Talevska\n3. Xh. Rosini – Aria e Rosinës nga opera “Berberi i Seviljes”\nInterpreton Nikolina Janevska\n4. VA Mozart – Aria e Leporello-s nga opera “Don Xhovani”\nInterpreton Vladimir Sazdovski\n5. Xh. Rosini – Aria e Don Basilios nga opera “Berberi i Seviljes”\nInterpreton Igor Durlovski\n6. Xh. Puçini – Aria e Lauretës nga opera “Xhani Skiki”\nInterpreton Blagica Pop Tomova\n7. Xh. Verdi - Duet Atila dhe Ezio nga opera “Atila”\nInterpretojnë Marjan Jovanoski dhe Aleksandar Stefanovski\n8. U. Xhordano – arie e Andrea Shenie nga opera me të njëjtin emër\nInterpreton Zoran Sotirov\n9. F. Lehar - Aria e Juditit nga opera me të njëjtin emër\nInterpreton Nade Talevska\n10. P. I. Çajkovski - Valsi i luleve nga baleti “Arrëthyesja”\nInterpreton baleti i Operës dhe Baletit Nacional\n***PAUZË***\n11. S. Fuçito - “Granada”\nInterpreton Vesna Ginovska Ilkova\n12. V.A.Mozart – dueti i Don Xhovani dhe Leporello nga opera “Don Xhovani”\nInterpretojnë Igor Durlovski dhe Vladimir Sazdovski\n13. Zh. Bizet - Aria e Karmen nga opera “Karmen”\nInterpreton Nikolina Janevska\n14. Zh. Bizet - finalja e aktit të 4-të të operës “Karmen”\nInterpreton kori i Operës dhe Baletit Nacional\n15. V. Bellini – Aria e Normës (Casta Diva) nga opera me të njëjtin emër\nInterpreton Blagica Pop Tomova\nInterpreton Marjan Jovanoski\n16. B. Bellini – duet i Normës dhe Adalzizës nga opera “Norma”\nInterpretojnë Vesna Ginovska Ilkova dhe Sandra Mitrovska\n17. S. Kardillo – Kënga napolitane Core 'ngrato\n18. . Xh. Puçini – Aria e Ço Ço San nga opera “Madame Baterflaj”\nInterpreton Sandra Mitrovska\n19. E. di. Capua – Këngë napolitane O’ Sole mio\nInterpreton Riste Velkov\n20. Xh. Puçini– Kancona e Magdës nga opera “Dallëndyshja”\nInterpreton Biljana Josifov\n21. Xh. Verdi – kori i ciganëve nga opera “Trubaduri”.\nInterpreton kori i Operës dhe Baletit Nacional\n
URL:https://operabalet.mk/al/event/koncerti-gala-tradicional-me-rastin-e-festes-vasilica-13-1-2024/
LOCATION:Array
CATEGORIES:Koncert
ATTACH;FMTTYPE=image/jpeg:https://operabalet.mk/al/wp-content/uploads/sites/3/2024/01/vasilica2024.jpg
END:VEVENT
END:VCALENDAR