BEGIN:VCALENDAR
VERSION:2.0
PRODID:-//Opera dhe Baleti Nacional - ECPv4.0.7//NONSGML v1.0//EN
CALSCALE:GREGORIAN
METHOD:PUBLISH
X-WR-CALNAME:Opera dhe Baleti Nacional
X-ORIGINAL-URL:https://operabalet.mk/al
X-WR-CALDESC:Events for Opera dhe Baleti Nacional
BEGIN:VEVENT
DTSTART;TZID="UTC+0":20230620T200000
DTEND;TZID="UTC+0":20230620T220000
DTSTAMP:20260423T161428
CREATED:20230609T082950
LAST-MODIFIED:20230619T142727
UID:648-1687291200-1687298400@operabalet.mk
SUMMARY:KONCERTI I SHPRESAVE TË REJA OPERISTIKE “KOSTA TËRPKOV” (20.6.2023)
DESCRIPTION:\nKONCERTI I SHPRESAVE TË REJA OPERISTIKE “KOSTA TËRPKOV”\n20.06.2023 – ora 20:00. Salloni i OBN\nMarrin pjesë solistë\, studentë të Fakultetit të Artit Muzikor- Shkup\nOrkestra e Operës dhe Baletit Nacional\nDirigjent: Ivan Eminoviq\nKoncert mjeshtër: Kliment Todoroski\n1. Biljana Buxhakoska - soprano\, viti i dytë (klasa Prof. mr. Vesna Gjinovska Ilkova)\n- W. A. Mozart: "Porgi amor"\, arie e konteshës nga opera "Le nozze di Figaro"\n2. Teodora Pejiq - mecosoprano\, viti i parë (klasa Prof. Dr. Goran Naçevski)\n- W. A. Mozart: "Voi che sapete" Aria e Kerubinos nga opera "Le nozze di Figaro"\n3. Dejan Simoski - bas\, viti i dytë (klasa Doc. mr. Ivan Naumovski)\n- W. A. Mozart: "Notte e giorno faticar" - arie e Leporelloa nga opera "Don Giovanni"\n4. Nikolla Cedomirovski - bariton (klasa e Doc. mr. Marjan Nikolovski)\n- W.A. Mozart: "Non piu andrai..." - Aria e Figaro-s nga opera "Le nozze di Figaro"\n5. Angella Andovska - soprano\, viti i parë (klasa Prof. Dr. Goran Naçevski)\n- G. Puccini - "O mio babbino caro" - arie e Lauretta-s nga opera "Gianni Schicchi"\n6. Nikolla Davidovski – bariton\, (klasa Prof. mr. Boris Trajanov)\n- V. Bellini: "Ah! Per semper io ti perdei" – arie e Rikardos nga opera "I Puritani"\n7. Eva Zhivkovska - soprano\, viti i dytë (klasa Doc. mr. Ivan Naumovski)\n- G. Puccini: "Signore ascolta" - arie e Liut nga opera "Turandot"\n8. Marija Gjorgjievska - soprano\, viti i katërt (klasa Prof. mr. Vesna Gjinovska Ilkova)\n- G. Verdi "Addio del passato" - arie e Violetës nga opera "La Traviata"\n9. Marija Tashevska - soprano\, viti i katërt (klasa Prof. Dr. Goran Naçevski)\n- G. Bizet: "Je dis que rien ne m'épouvante" - arie e Michaela nga opera "Carmen"\n10. Elena Vasova - soprano\, viti i katërt (klasa Doc. mr. Ivan Naumovski)\n- W.A.Mozart: "Batti\, batti o bel Masetto" - arie e Cerlinës nga opera "Don Giovanni"\n11. Isabela Dimovska - mecosoprano\, cikli i dytë (klasa Doc. mr. Ivan Naumovski)\n- J. Strauss II: "Ich lade gern mir Gäste ein" - Aria e Princit Orlovsky nga opereta "Die Fledermaus"\n12. David Miladinov – bariton\, (klasa Prof. mr. Boris Trajanov)\n- G. Donizetti: "Ambo nati in questavalle" – arie e Antonios nga opera "Linda di Chamounix"\n13. Makedonka Petreska\, viti i tretë (klasa Prof. mr. Vesna Gjinovska Ilkova)\n- G. Puccini: "Tu che di gel sei cinta" – arija e Liut nga opera "Turandot"\n14. Marija Tashevska - soprano dhe Vejçesllav Popovski - tenor\n- G.Verdi: Dueti i Violettës dhe Alfredos nga opera "La Traviata"\n15. Martina Mitrevska - soprano\, viti i katërt (klasa Doc. mr. Ivan Naumovski)\n- J. Strauss II: "Mein Herr Marquis" - arie e Adelës nga opereta "Die Fledermaus"\n16. Marija Gjorgjievska - soprano\, viti i katërt (klasa Prof. mr. Vesna Gjinovska Ilkova)\n- E. Kálmán: "Heia\, heia in den Bergen" - arie e Sylva nga opereta "Die Csárdásfürstin"\n17. Marija Tashevska - soprano\, viti i katërt (klasa Prof. Dr. Goran Naçevski)\n- F. Lehar: "Vilja – Lied" Aria e Anna Glavari nga opereta "Die lustige Witwe"\n18. Martina Mitrevska - soprano dhe Vejçesllav Popovski - tenor\n- E. Kálmán: Dueti i Sylva dhe Edvin nga opereta "Die Csárdásfürstin"
URL:https://operabalet.mk/al/event/koncerti-i-shpresave-te-reja-operistike-kosta-terpkov-20-6-2023/
LOCATION:Array
CATEGORIES:Koncert
ATTACH;FMTTYPE=image/jpeg:https://operabalet.mk/al/wp-content/uploads/sites/3/2023/06/kosta-trpkov.jpg
END:VEVENT
END:VCALENDAR