BEGIN:VCALENDAR
VERSION:2.0
PRODID:-//Opera dhe Baleti Nacional - ECPv4.0.7//NONSGML v1.0//EN
CALSCALE:GREGORIAN
METHOD:PUBLISH
X-WR-CALNAME:Opera dhe Baleti Nacional
X-ORIGINAL-URL:https://operabalet.mk/al
X-WR-CALDESC:Events for Opera dhe Baleti Nacional
BEGIN:VEVENT
DTSTART;TZID="UTC+0":20230113T200000
DTEND;TZID="UTC+0":20230113T213000
DTSTAMP:20260423T173719
CREATED:20221213T140720
LAST-MODIFIED:20230110T111229
UID:571-1673640000-1673645400@operabalet.mk
SUMMARY:Koncerti tradicional me rastin e festës “Vasilica” (13.1.2023)
DESCRIPTION:\nKoncerti tradicional me rastin e festës “Vasilica”\n(13.1.2023)\nGala koncert operistik \n12 dhe 13 janar 2023\, ora 20.00\nDirigjentë:\nBisera Çadllovska\nIvan Eminoviq\n \nRegjisor\nDejan Proshev\nMjeshtër koncerti:\nVerica Llambevska\nMjeshtër kori:\nGjurgjica Dashiq\nMarrin pjesë:\nVesna Gjinovska Illkova – soprano\nSandra Mitrovska – soprano\nDëshira Ahmeti – Kërliu – soprano\nNade Talevska – soprano\nIrena Kafkalevska – meco soprano\nGjorgji Cuckovski – tenor\nZoran Sotirov – tenor\nBoris Trajanov – bariton\nMarjan Jovanovski – bariton\nIgor Durllovski – bas\nAleksandar Stefanovski – bas\nMarrin pjesë edhe kori dhe orkestra e Operës dhe Baletit Kombëtar\nNë program do të interpretohen arie\, duete dhe pjesë nga operat dhe operetat të kompozitorëve: Belini\, Puçini\, Verdi\, Xhordano\, Shtrausi i Riu
URL:https://operabalet.mk/al/event/koncerti-tradicional-me-rastin-e-festes-vasilica-13-1-2023/
LOCATION:Array
CATEGORIES:Koncert
ATTACH;FMTTYPE=image/png:https://operabalet.mk/al/wp-content/uploads/sites/3/2022/12/vasilica2023.png
END:VEVENT
END:VCALENDAR