BEGIN:VCALENDAR
VERSION:2.0
PRODID:-//Opera dhe Baleti Nacional - ECPv4.0.7//NONSGML v1.0//EN
CALSCALE:GREGORIAN
METHOD:PUBLISH
X-WR-CALNAME:Opera dhe Baleti Nacional
X-ORIGINAL-URL:https://operabalet.mk/al
X-WR-CALDESC:Events for Opera dhe Baleti Nacional
BEGIN:VEVENT
DTSTART;TZID="UTC+0":20230312T200000
DTEND;TZID="UTC+0":20230312T210000
DTSTAMP:20260423T161500
CREATED:20230310T131637
LAST-MODIFIED:20230310T183350
UID:607-1678651200-1678654800@operabalet.mk
SUMMARY:KUJTESË - 11 MARS\, HOLOKAUSTI I HEBRENJVE MAQEDONAS (12.3.2023)
DESCRIPTION:\nKUJTESË 11 MARS - KONCERT\nKUJTESË - 11 MARS\, HOLOKAUSTI I HEBRENJVE MAQEDONAS\n 12.3.2023 – 20:00\nKohëzgjatja: 60 minuta\nPjesëmarrësit:\nOrkestra e Filarmonisë së R. Maqedonia e Veriut\n Kori i Operës dhe Baletit Nacional\nDirigjente: Bisera Çadlovska\nMjeshtër kori: Gjurgjica Dashiç\nKorepetitor: Jordan Petrushevski\nRegjisor: Trajko Jordanovski\nPROGRAMI\nKompozime kori:\nRafailo Blam: Joshev Beseter\nMeir Finkeistein: L’Dor va dor\nD. Zehavi: Eli\, Eli\nPjesa muzikore\nXh. Verdi: Kori i hebrenjve nga opera “Nabuko”\nMoxart: „Rekuiemi“\n- Requiem\n- Dies irae\n- Lacrimosa\n
URL:https://operabalet.mk/al/event/kujtese-11-mars-holokausti-i-hebrenjve-maqedonas-12-3-2023/
LOCATION:Array
CATEGORIES:Koncert
ATTACH;FMTTYPE=image/png:https://operabalet.mk/al/wp-content/uploads/sites/3/2023/03/web-bannerfilharmonija.png
END:VEVENT
END:VCALENDAR