BEGIN:VCALENDAR
VERSION:2.0
PRODID:-//Opera dhe Baleti Nacional - ECPv4.0.7//NONSGML v1.0//EN
CALSCALE:GREGORIAN
METHOD:PUBLISH
X-WR-CALNAME:Opera dhe Baleti Nacional
X-ORIGINAL-URL:https://operabalet.mk/al
X-WR-CALDESC:Events for Opera dhe Baleti Nacional
BEGIN:VEVENT
DTSTART;TZID="UTC+0":20251226T193000
DTEND;TZID="UTC+0":20251226T220000
DTSTAMP:20260423T094506
CREATED:20251114T131734
LAST-MODIFIED:20251117T140048
UID:996-1766777400-1766786400@operabalet.mk
SUMMARY:“LAKURIQI I NATËS” - JOHAN SHTRAUS - Më i riu (26.12.2025)
DESCRIPTION:\nOPERA DHE BALETI NACIONAL\nJOHAN SHTRAUS - Më i riu\n26.12.2025\, ora 19:30 – Salloni i OBN-së\nDirigjenti: Bisera Çadllovska\nRegjisori: Ljupka Jakimovska\nSkenografi: Maria Veterovska\nKostumografi: Maria Pupuçevska\nNdriçimi: Millço Aleksandrov\nAsistent Kostumografi: Angella Bogevska\nKoreografi: Sasha Eftimova\nAsistent Koreografi: Maja Mitrovska-Bogojevska\nAsistent Dirigjenti: Katerina Stojkovska\nMjeshtër Kori: Jasmina Gjorgeska\nAsistent Regjisori: Trajko Jordanovski\nMjeshtër Koncerti: Kliment Todoroski\nKorepetitorë: Elena Siljanoska\, Janinka Nevçeva\, Andrej Naunov\, Anastasija Grgovska\nS O L I S T Ë T:\nAJZENSHTAJN - Vasko Zdravkov\nALFRED - Blagoj Nacoski\nROZALINDA - Biljana Josifov\,\nADELE - Nada Talevska\nPRINC ORLOVSKI - Sonja Pendovska Madevska\nFALKE - Dragan Ampov\nFRANK - Hrustijan Antovski\nBLIND - Marjan Nikollovski\nIDA - Aleksandra Llazarovska Vasilevska\nFROSH - Tihomir Jakimovski\nInspicientë : Dragan Kostadinoviq\, Marko Pavllevski\, Katerina Boshkovska\nSufler: Nevena Georgieva\nUdhëheqës artistik i Operës\,\nHristo Sarakinov
URL:https://operabalet.mk/al/event/lakuriqi-i-nates-johan-shtraus-me-i-riu-26-12-2025/
LOCATION:Array
CATEGORIES:Оperë
ATTACH;FMTTYPE=image/jpeg:https://operabalet.mk/al/wp-content/uploads/sites/3/2025/09/cover_liljakot_web.jpeg
END:VEVENT
END:VCALENDAR