BEGIN:VCALENDAR
VERSION:2.0
PRODID:-//Opera dhe Baleti Nacional - ECPv4.0.7//NONSGML v1.0//EN
CALSCALE:GREGORIAN
METHOD:PUBLISH
X-WR-CALNAME:Opera dhe Baleti Nacional
X-ORIGINAL-URL:https://operabalet.mk/al
X-WR-CALDESC:Events for Opera dhe Baleti Nacional
BEGIN:VEVENT
DTSTART;TZID="UTC+0":20220318T200000
DTEND;TZID="UTC+0":20220318T223000
DTSTAMP:20260423T235155
CREATED:20220228T144849
LAST-MODIFIED:20220302T094323
UID:478-1647633600-1647642600@operabalet.mk
SUMMARY:Luçija nga Lamermur - Gaetano Doniceti (18.3.2022)
DESCRIPTION:\nDirigjent: Ivan Eminoviq\nRegjisor/skenograf:Lev Pulieze(Itali)\nKosumograf: Marija Papuçevska\nAsisten kostumografi: Marta Trendafilova\nAsistentë regjie: Trajko Jordanovski\, Lupka Jakimovska\nAsistentë të mjeshtrit të korit: Gjurgjica Dashiq\, Jasmina Gjorgjeska\nMjeshtër - koncerti: \nKorepetitorë: Elena Siljanoska\, Janinka Nevçeva\, Andreja Naunov\, Jordan Petrushevski\n \nLuçija: Ana Durlovski\nEnriko: Marjan Jovanovski\nEdgardo: Bllagoj Nacoski\nArturo: Nikola Stojçeski\nRajmondo: Alessandro Abis (Italy)\nAliza: Marika Popoviq\nNormano: Jane Dunimagloski\n\nInspicientë: Lupço Polizov\, Dragan Kostandinoviq\, Marko Pavlevski\nSuflerë: Pavlina Zdravkova\, Nevena Georgieva
URL:https://operabalet.mk/al/event/lucija-nga-lamermur-gaetano-doniceti-18-3-2022/
LOCATION:Array
CATEGORIES:Оperë
ATTACH;FMTTYPE=image/jpeg:https://operabalet.mk/al/wp-content/uploads/sites/3/2022/02/lucia-web.jpg
END:VEVENT
END:VCALENDAR