BEGIN:VCALENDAR
VERSION:2.0
PRODID:-//Opera dhe Baleti Nacional - ECPv4.0.7//NONSGML v1.0//EN
CALSCALE:GREGORIAN
METHOD:PUBLISH
X-WR-CALNAME:Opera dhe Baleti Nacional
X-ORIGINAL-URL:https://operabalet.mk/al
X-WR-CALDESC:Events for Opera dhe Baleti Nacional
BEGIN:VEVENT
DTSTART;TZID="UTC+0":20220518T200000
DTEND;TZID="UTC+0":20220518T230000
DTSTAMP:20260423T224839
CREATED:20220428T132902
LAST-MODIFIED:20220509T104417
UID:504-1652904000-1652914800@operabalet.mk
SUMMARY:LUÇIJA NGA LAMERMUR - Gaetano Doniceti (18.5.2022)
DESCRIPTION:\nGaetano Doniceti\n LUÇIJA NGA LAMERMUR\n 18.5.2022\, ora 20\nDirigjent: Alesandro D’ Agostini (Itali)\nRegjisor/skenograf: Lev Pulieze (Itali)\nKostumograf: Marija Pupuçevska\nNdriçimi dhe dizajni: Vasko Lisiçov\nMjeshtër kori: Gjurgjica Dashiq\, Jasmina Gjorgjeska\nAsisten kostumografi: Marta Trendafilova\nAsistentë regjie: Trajko Jordanovski\, Lupka Jakimovska\nAsistent dirigjenti: Katerina Stojkova\nMjeshtër - koncerti: Jane Bakevski\nKorepetitorë: Elena Siljanoska\, Janinka Nevçeva\, Andreja Naunov\, Jordan Petrushevski\nInspicientë: Lupço Polizov\, Dragan Kostandinoviq\, Marko Pavlevski\nSuflerë: Pavlina Zdravkova\, Nevena Georgieva\nMarrin pjesë:\nLuçija: Ana Durlovski\nEnriko: Boris Trajanov\nEdgardo: Oreste Cosimo (Itali)\nArturo: Nikola Stojçeski\nRajmondo: Alesandro Abis (Itali)\nAliza: Marika Popoviq\nNormano: Jane Dunimagloski\nPjesëmarrës edhe kori dhe orkestra e Operës dhe Baletit Kombëtar\n
URL:https://operabalet.mk/al/event/lucija-nga-lamermur-gaetano-doniceti-18-5-2022/
LOCATION:Array
CATEGORIES:Оperë
ATTACH;FMTTYPE=image/jpeg:https://operabalet.mk/al/wp-content/uploads/sites/3/2022/04/LUCIJA-ALB.jpg
END:VEVENT
END:VCALENDAR