BEGIN:VCALENDAR
VERSION:2.0
PRODID:-//Opera dhe Baleti Nacional - ECPv4.0.7//NONSGML v1.0//EN
CALSCALE:GREGORIAN
METHOD:PUBLISH
X-WR-CALNAME:Opera dhe Baleti Nacional
X-ORIGINAL-URL:https://operabalet.mk/al
X-WR-CALDESC:Events for Opera dhe Baleti Nacional
BEGIN:VEVENT
DTSTART;TZID="UTC+0":20231222T200000
DTEND;TZID="UTC+0":20231222T213000
DTSTAMP:20260423T192854
CREATED:20231117T090805
LAST-MODIFIED:20231205T103325
UID:694-1703275200-1703280600@operabalet.mk
SUMMARY:Lutjet e trupit tim -  REPRIZË (22.12.2023)
DESCRIPTION:\n22.12.2023\, ora 20:00 \nREPRIZË\nIdeja e projektit dhe kostumografi: Aleksandar Noshpal\nDramaturg: Sonja Zdravkova-Xheparoska\nKoreografë: Ivana Kocevska\, Adriana Dançevska\, Sasha Evtimova\nKompozitorë: Daria Andovska\, Aleksandar Grozdanovski\, Aleksandar Pejovski\nSkenografi: Mihaljo Stojanovski\nArtisti pamor: Florian Canga (R. e Shqipërisë)\nMontazhi i filmit: Dorian Milovanoviç\nMultimedia dhe dizajn grafik: Laze Tripkov\nLexim poezish: Nikolla Ristanovski\nAsistente kostumografe: Angela Bogeska\nDrita: Jakup Jakup\, Nino Mitevski\, Pero Maraçkov\nLUTJET E TRUPIT TIM\nShfaqje baleti (triptik)\, frymëzuar nga cikli poetik me të njëjtin titull të Aco Shopovit\, me rastin e përkujtimit të 100 vjetorit të lindjes së poetit.\nCIKLI - LINDJA (NATIVITAS)\nAkti i parë: koreograf: Ivana Kocevska\, kompozitor: Daria Andovska\nInterpretojnë: Mimi Pop-Aleksova Atanasovska / Martina Dimovska (NËNA)\, Martina Dimovska/Hristina Nacevska/Amanda Roca (GRUAJA)\,\nNatasha Trendafilova Gicev/ Medina Jusufovic (Martina Cvetanoska) (VAJZA)\n3 meshkuj: Balazh Locei\, Alfred Jago\, (Francisko Himenez Ruiz)\, Igor Velanoski/Miro Mitrashinoviq\, Endrju Kuk\, Agim Baftii\, Veselin Trajkovski\, Nikola Orso.\n4 femra: Ivana Dimkovska\, Eva Perkovska\, Amanda Roca\, Iliana Danilov/ Martina Cvetanoska\, Medina Jusufovic\, Melanija Gocevska\, Matea Karevski\n(Villi Karajanova\, Leontina Karçeva\, Bojana Arsovska\, Anja Filipovska)\nCIKLI - GERSHETIMI\nAkti i dytë: koreograf: Adriana Dançevska\, kompozitor: Aleksandar Grozdanovski\nInterpretojnë: Mimi Pop – Aleksova Atanasovska\, Iliana Danilov\, Natasha Trendafilova\, Angela Velevska\, Ivana Dimkovska\, Melanija Goçevska\, Angela Bogatinova\, Amanda Roca\nFrancisko Himénez Ruiz\, Balazh Loçei\, Igor Velanoski\, Endrju Kuk\, Veselin Trajkovski\, Alfie Jago.\nCIKLI - FRYMEZIM (IN PERPETUM)\nAkti i trete: koreograf: Sasha Evtimova\, kompozitor: Aleksandar Pejovski\nAsistente koreografe: Ksenia Sinxhiq (Mali i Zi)\nInterpretojnë: Mimi Pop - Aleksova Atanasovska\, Marija Kicevska\, Aleksandra Mijalkova\, Maria Josifovska\, Olga Pango\, Bibi Basmajeva\, Natasha Trendafilova\, Marina Anastasovska\, Hristina Naqevska\, Iliana Danilov\, Amanda Roca\, Mila Ninovska\, Angelai Velevska Dikovska\, Martina Dimovska\, Eva Deskovska.\nBoban Kovacevski\, Balazh Locei\, Francisko Himenez Ruiz\, Igor Velanoski\, Miro Mitrashinovic\, Endrju Kuk\, Alfi Jago\, Veselin Trajanovski\, Todor Stojanov\, Agim Baftii\, Kristian Jangos\, Martin Sazdovski\, Nikolas Orso\, Stefan Kocevski (Marin Ancevski)\n(Villi Karajanova\, Medina Jusufovic\, Andriana Bogatinovska\, Leontina Karçeva\, Isidora Kitanovic\, Teodora Stavrevska\, Bojana Arsovska\, Anja Filopovska)\nLUTJET E TRUPIT TIM\nTriptiku i baletit\nKrijimi i një premise dramaturgjike të poezisë së Shopovit ishte një lojë ekstatike me kuptime\, gjendje\, emocione\, nuanca\, aroma\, ngjyra\,... Është një proces dehës i depërtimit në kimerat më të thella të fjalës së tij poetike\, por në të njëjtën kohë. shikuar përmes dioptrisë së amzës së formës të një loje skenike. Duke u nisur nga diskursi i performancës së kërcimit\, ideja ishte të arrihej përkthimi\, duke e kthyer fjalën në lëvizje.\nShfaqja bazohet në dymbëdhjetë këngë të Aco Shopovit\, njëmbëdhjetë nga cikli “Lutjet e trupit tim” dhe kënga “Lindja e fjalës”\, e cila ndoqi shumë natyrshëm ciklin. Këngët e Shopovit janë histori të fuqishme\, por në të njëjtën kohë intime të pasqyruara në një medium të ri\, të ndryshëm. Poeti e vendos trupin në interesin e tij poetik\, trupi nga ana tjetër është një mjet\, një shenjë në artin e kërcimit. Prandaj\, ndërthurja e fjalës së Shopovit dhe idesë së trupit\, si paradigmë e tij fillestare frymëzuese\, me kërcimin si gjuhë\, u zhvillua natyrshëm dhe në formë shumë organike. Shfaqja përpiqet të krijojë alkiminë performuese\, simbiozë të shprehjeve\, sinkretizëm bashkëkohor.\nPër qëllimet e performancës\, këngët janë të organizuara në një triptik\, secila pjesë e të cilit përmban katër këngë të lidhura në një kuadër tematiko-funksional. Të tre ciklet tematike lidhen me fillin konceptual që shfaqet në secilin prej tyre me emrin lindja\, gërshetimi dhe ngjitja. Grupimi i propozuar është jo vetëm ideal për sa i përket një lloj ndarjeje matematikore\, por shumë më tepër për nga përmbajtja\, gjë që rezulton në funksionalitet të shkëlqyer të këngëve si nën-njësi të veçanta. Të tre shtresat kanë etiketën e tyre dhe mbushjen tematike. Në secilën prej tyre ka një luhatje nga një hyrje përmes një lloj kulmi dhe zgjidhjeje deri në riekzaltimin e ciklit të ardhshëm.\nForca e poezisë së Shopovit si dramaturg më bëri të bëj një ndërhyrje jo standarde\, duke përfshirë komponentin verbal\, pra segmentet e folur të poezisë së tij të ngulitura në muzikë\, skena apo si shkronja të pranishme në skenën\, gjë që jepte një të veçantë\, cilësinë e lojës.\nSonja Zdravkova-Dxheparoska
URL:https://operabalet.mk/al/event/lutjet-e-trupit-tim-reprize-22-12-2023/
LOCATION:Array
CATEGORIES:Balet
ATTACH;FMTTYPE=image/jpeg:https://operabalet.mk/al/wp-content/uploads/sites/3/2023/11/web-Molitvi-na-moeto-telo-final-copy.jpg
END:VEVENT
END:VCALENDAR